BEGIN:VCALENDAR
VERSION:2.0
PRODID:-//Audubon Society of Greater Cleveland - ECPv6.15.20//NONSGML v1.0//EN
CALSCALE:GREGORIAN
METHOD:PUBLISH
X-ORIGINAL-URL:https://clevelandaudubon.org
X-WR-CALDESC:Events for Audubon Society of Greater Cleveland
REFRESH-INTERVAL;VALUE=DURATION:PT1H
X-Robots-Tag:noindex
X-PUBLISHED-TTL:PT1H
BEGIN:VTIMEZONE
TZID:America/New_York
BEGIN:DAYLIGHT
TZOFFSETFROM:-0500
TZOFFSETTO:-0400
TZNAME:EDT
DTSTART:20240310T070000
END:DAYLIGHT
BEGIN:STANDARD
TZOFFSETFROM:-0400
TZOFFSETTO:-0500
TZNAME:EST
DTSTART:20241103T060000
END:STANDARD
BEGIN:DAYLIGHT
TZOFFSETFROM:-0500
TZOFFSETTO:-0400
TZNAME:EDT
DTSTART:20250309T070000
END:DAYLIGHT
BEGIN:STANDARD
TZOFFSETFROM:-0400
TZOFFSETTO:-0500
TZNAME:EST
DTSTART:20251102T060000
END:STANDARD
BEGIN:DAYLIGHT
TZOFFSETFROM:-0500
TZOFFSETTO:-0400
TZNAME:EDT
DTSTART:20260308T070000
END:DAYLIGHT
BEGIN:STANDARD
TZOFFSETFROM:-0400
TZOFFSETTO:-0500
TZNAME:EST
DTSTART:20261101T060000
END:STANDARD
END:VTIMEZONE
BEGIN:VEVENT
DTSTART;TZID=America/New_York:20251007T190000
DTEND;TZID=America/New_York:20251007T200000
DTSTAMP:20260425T144831
CREATED:20250923T160513Z
LAST-MODIFIED:20250923T160513Z
UID:13098-1759863600-1759867200@clevelandaudubon.org
SUMMARY:Migrating Waterfowl  Program
DESCRIPTION:Once the pretty summer songbirds have departed for points south\, what do birders do?  They put on another layer of clothes and go looking for waterfowl – Ducks\, Geese\, Swans\, Loons\, Grebes & Gulls.  This presentation showcases these hardy visitors along with Hawks\, Owls and smaller birds like Snow Buntings\, Larkspurs and Kinglets.  If you don’t like cold weather\, ask about ‘car birding’\, a favorite alternative to walking when wind chills plummet!  About 1 hour in length.
URL:https://clevelandaudubon.org/event/migrating-waterfowl-program-3/
LOCATION:Sandy Ridge Park\, 6195 Otten Road\, North Ridgeville\, OH\, 44039\, United States
CATEGORIES:Backyard Naturalist
ATTACH;FMTTYPE=image/jpeg:https://clevelandaudubon.org/wp-content/uploads/2015/01/Ring-necked-Duck-female-e1758643470748.jpg
END:VEVENT
BEGIN:VEVENT
DTSTART;TZID=America/New_York:20251011T100000
DTEND;TZID=America/New_York:20251011T113000
DTSTAMP:20260425T144831
CREATED:20250923T154839Z
LAST-MODIFIED:20250923T161353Z
UID:13089-1760176800-1760182200@clevelandaudubon.org
SUMMARY:Autumn Color Hike  Field Trip
DESCRIPTION:We are fortunate to have John Lillich guide us on a spectacular autumn leaf color hike overlooking the Chagrin River Valley from our own Hach-Otis Sanctuary. Hopefully the trees will have received just enough moisture and cool night temperatures to provide amazing color. Meet at the Hach-Otis parking lot at the end of Skyline Drive off River Road in Willoughby Hills.
URL:https://clevelandaudubon.org/event/autumn-leaf-color-hike-field-trip-2/
LOCATION:Hach-Otis Sanctuary\, Skyline Drive\, Willoughby Hills\, OH\, 44094\, United States
CATEGORIES:Field Trip
ATTACH;FMTTYPE=image/jpeg:https://clevelandaudubon.org/wp-content/uploads/2016/09/Valley-from-Hach-06-sm.jpg
END:VEVENT
BEGIN:VEVENT
DTSTART;TZID=America/New_York:20251015T170000
DTEND;TZID=America/New_York:20251015T180000
DTSTAMP:20260425T144831
CREATED:20250923T161251Z
LAST-MODIFIED:20250923T161251Z
UID:13100-1760547600-1760551200@clevelandaudubon.org
SUMMARY:Birds of NE Ohio  Program
DESCRIPTION:Over 200 species of birds can be found in NE Ohio in a typical year. Some are year-round residents and others just pass through on their way to the Boreal Forests of Canada. Others fly across the Gulf of Mexico non-stop to have their babies in our backyards! Get a close-up look at 100 of the most common residents\, migrants and breeding birds of NE Ohio and learn where and when to find them. Approximately 1 hour in length.
URL:https://clevelandaudubon.org/event/birds-of-ne-ohio-program-3/
LOCATION:Rock Creek Library\, 2988 High Street\, Rock Creek\, OH\, 44084\, United States
CATEGORIES:Backyard Naturalist
ATTACH;FMTTYPE=image/png:https://clevelandaudubon.org/wp-content/uploads/2025/03/Phoebe-rtt-e1758643956317.png
END:VEVENT
END:VCALENDAR