BEGIN:VCALENDAR
VERSION:2.0
PRODID:-//Audubon Society of Greater Cleveland - ECPv6.15.20//NONSGML v1.0//EN
CALSCALE:GREGORIAN
METHOD:PUBLISH
X-ORIGINAL-URL:https://clevelandaudubon.org
X-WR-CALDESC:Events for Audubon Society of Greater Cleveland
REFRESH-INTERVAL;VALUE=DURATION:PT1H
X-Robots-Tag:noindex
X-PUBLISHED-TTL:PT1H
BEGIN:VTIMEZONE
TZID:America/New_York
BEGIN:DAYLIGHT
TZOFFSETFROM:-0500
TZOFFSETTO:-0400
TZNAME:EDT
DTSTART:20240310T070000
END:DAYLIGHT
BEGIN:STANDARD
TZOFFSETFROM:-0400
TZOFFSETTO:-0500
TZNAME:EST
DTSTART:20241103T060000
END:STANDARD
BEGIN:DAYLIGHT
TZOFFSETFROM:-0500
TZOFFSETTO:-0400
TZNAME:EDT
DTSTART:20250309T070000
END:DAYLIGHT
BEGIN:STANDARD
TZOFFSETFROM:-0400
TZOFFSETTO:-0500
TZNAME:EST
DTSTART:20251102T060000
END:STANDARD
BEGIN:DAYLIGHT
TZOFFSETFROM:-0500
TZOFFSETTO:-0400
TZNAME:EDT
DTSTART:20260308T070000
END:DAYLIGHT
BEGIN:STANDARD
TZOFFSETFROM:-0400
TZOFFSETTO:-0500
TZNAME:EST
DTSTART:20261101T060000
END:STANDARD
END:VTIMEZONE
BEGIN:VEVENT
DTSTART;TZID=America/New_York:20250905T160000
DTEND;TZID=America/New_York:20250906T190000
DTSTAMP:20260425T180048
CREATED:20250701T161616Z
LAST-MODIFIED:20250814T163721Z
UID:12896-1757088000-1757185200@clevelandaudubon.org
SUMMARY:Bird Quest 2025
DESCRIPTION:Save the date for this year’s Bird Quest\, coming September 5 – 6! Our base of operations will be at The Rookery in Geauga County\, same as last year. Please plan on joining us.  \nRegistration now open!
URL:https://clevelandaudubon.org/event/bird-quest-2025/
LOCATION:The Rookery\, 10110 Cedar Road\, Munson Township\, OH\, 44026\, United States
CATEGORIES:Education
ATTACH;FMTTYPE=image/jpeg:https://clevelandaudubon.org/wp-content/uploads/2015/01/Bird-Quest-2021-Rookery-walk-MV-sm-e1751386548169.jpg
END:VEVENT
BEGIN:VEVENT
DTSTART;TZID=America/New_York:20250910T120000
DTEND;TZID=America/New_York:20250910T130000
DTSTAMP:20260425T180048
CREATED:20250831T222317Z
LAST-MODIFIED:20250831T222317Z
UID:12993-1757505600-1757509200@clevelandaudubon.org
SUMMARY:Rooted for Success  via Zoom
DESCRIPTION:Rooted for Success:\nTree Planting Best Practices \nTune in for Chad’s advice about proper tree-planting. Chad will walk you through best practices for selecting the right tree for your spot\, choosing the healthiest nursery stock\, and using proper planting techniques. You’ll also learn key tips for transplanting and how to give young trees the early care they need to thrive. Join us to grow your tree-planting know-how from the ground up!\nChad is an ISA Board Certified Master Arborist and an ASCA Registered Consulting Arborist. He is also a Municipal Specialist and Tree Risk Assessment Qualified with the ISA\, and an Ohio Licensed Commercial Applicator. Chad is passionate about providing high quality tree and shrub care with a goal towards preservation. He enjoys putting his expertise to use advising his clients about maintaining their landscapes. \nTo join the Zoom presentation please visit\nwww.natureinmybackyard.clevelandaudubon.org/programs
URL:https://clevelandaudubon.org/event/rooted-for-success-via-zoom/
CATEGORIES:Backyard Naturalist,Education
ATTACH;FMTTYPE=image/jpeg:https://clevelandaudubon.org/wp-content/uploads/2025/08/chad-clink3.jpg
END:VEVENT
BEGIN:VEVENT
DTSTART;TZID=America/New_York:20250920T133000
DTEND;TZID=America/New_York:20250920T153000
DTSTAMP:20260425T180048
CREATED:20250831T231157Z
LAST-MODIFIED:20250831T231157Z
UID:12996-1758375000-1758382200@clevelandaudubon.org
SUMMARY:Fringed Gentians  Field Trip
DESCRIPTION:Join us on our annual saunter to view one of the last wildflowers of the season to bloom. This amazing biennial will dazzle you if we are lucky enough to have a sunny September day. A fantastic shade of violet with the delicate fringed petals will make you glad to have made the 2-mile hike. Please wear waterproof footwear as this bloom likes to keep its feet slightly wet! We will meet at the Bretschneider Park parking lot on the north side of Pioneer Trail just a few hundred yards east of Page Rd. in Aurora. (896 E. Pioneer Tr. Aurora\, OH 44202)
URL:https://clevelandaudubon.org/event/fringed-gentians-field-trip-3/
LOCATION:Aurora Audubon Sanctuary\, 896 E. Pioneer Trail\, Aurora\, OH\, 44202\, United States
CATEGORIES:Field Trip
ATTACH;FMTTYPE=image/jpeg:https://clevelandaudubon.org/wp-content/uploads/2015/07/Fringed-Gentian.jpg
END:VEVENT
END:VCALENDAR