BEGIN:VCALENDAR
VERSION:2.0
PRODID:-//Audubon Society of Greater Cleveland - ECPv6.15.20//NONSGML v1.0//EN
CALSCALE:GREGORIAN
METHOD:PUBLISH
X-ORIGINAL-URL:https://clevelandaudubon.org
X-WR-CALDESC:Events for Audubon Society of Greater Cleveland
REFRESH-INTERVAL;VALUE=DURATION:PT1H
X-Robots-Tag:noindex
X-PUBLISHED-TTL:PT1H
BEGIN:VTIMEZONE
TZID:America/New_York
BEGIN:DAYLIGHT
TZOFFSETFROM:-0500
TZOFFSETTO:-0400
TZNAME:EDT
DTSTART:20240310T070000
END:DAYLIGHT
BEGIN:STANDARD
TZOFFSETFROM:-0400
TZOFFSETTO:-0500
TZNAME:EST
DTSTART:20241103T060000
END:STANDARD
BEGIN:DAYLIGHT
TZOFFSETFROM:-0500
TZOFFSETTO:-0400
TZNAME:EDT
DTSTART:20250309T070000
END:DAYLIGHT
BEGIN:STANDARD
TZOFFSETFROM:-0400
TZOFFSETTO:-0500
TZNAME:EST
DTSTART:20251102T060000
END:STANDARD
BEGIN:DAYLIGHT
TZOFFSETFROM:-0500
TZOFFSETTO:-0400
TZNAME:EDT
DTSTART:20260308T070000
END:DAYLIGHT
BEGIN:STANDARD
TZOFFSETFROM:-0400
TZOFFSETTO:-0500
TZNAME:EST
DTSTART:20261101T060000
END:STANDARD
END:VTIMEZONE
BEGIN:VEVENT
DTSTART;TZID=America/New_York:20250823T090000
DTEND;TZID=America/New_York:20250823T120000
DTSTAMP:20260425T192836
CREATED:20250723T154810Z
LAST-MODIFIED:20250814T163601Z
UID:12902-1755939600-1755950400@clevelandaudubon.org
SUMMARY:Birding Workshop  Program
DESCRIPTION:The Chagrin River Bird Quest’s pre-event Birding Workshop! Update your skills or learn new ones in preparation for the upcoming Bird Quest on Sept 5-6. An hour presentation (approximately) will be followed by a bird walk in the Novak Sanctuary to practice what you learned. \nPlease register on-line for this event.
URL:https://clevelandaudubon.org/event/birding-workshop-program-2/
LOCATION:Novak Education Center\, 382 Townline Road\, Aurora\, OH\, 44202\, United States
CATEGORIES:Backyard Naturalist,Education,Field Trip
ATTACH;FMTTYPE=image/jpeg:https://clevelandaudubon.org/wp-content/uploads/2024/04/Gray-Catbird-MV-vsm.jpg
END:VEVENT
BEGIN:VEVENT
DTSTART;TZID=America/New_York:20250823T133000
DTEND;TZID=America/New_York:20250823T150000
DTSTAMP:20260425T192836
CREATED:20250501T190502Z
LAST-MODIFIED:20250501T190502Z
UID:12884-1755955800-1755961200@clevelandaudubon.org
SUMMARY:High Summer Hike  Field Trip
DESCRIPTION:Come and enjoy the progress of the “Invasive Species Warriors” work on reclaiming our fields and forest. Thanks to the beaver the marsh is successfully holding water allowing it to progress to its former character of years ago. Join us to observe the changes. Meet at the Novak Sanctuary Parking lot on the east side of Townline Rd. almost a mile north of Route 82 in Aurora. (382 Townline Rd. Aurora\, OH 44202)
URL:https://clevelandaudubon.org/event/high-summer-hike-field-trip/
LOCATION:Novak Sanctuary\, 382 Townline Road\, Mantua\, OH\, 44202\, United States
CATEGORIES:Field Trip
ATTACH;FMTTYPE=image/jpeg:https://clevelandaudubon.org/wp-content/uploads/2023/07/Novak1-scaled-e1746126286477.jpg
END:VEVENT
END:VCALENDAR