BEGIN:VCALENDAR
VERSION:2.0
PRODID:-//Audubon Society of Greater Cleveland - ECPv6.15.20//NONSGML v1.0//EN
CALSCALE:GREGORIAN
METHOD:PUBLISH
X-WR-CALNAME:Audubon Society of Greater Cleveland
X-ORIGINAL-URL:https://clevelandaudubon.org
X-WR-CALDESC:Events for Audubon Society of Greater Cleveland
REFRESH-INTERVAL;VALUE=DURATION:PT1H
X-Robots-Tag:noindex
X-PUBLISHED-TTL:PT1H
BEGIN:VTIMEZONE
TZID:America/New_York
BEGIN:DAYLIGHT
TZOFFSETFROM:-0500
TZOFFSETTO:-0400
TZNAME:EDT
DTSTART:20240310T070000
END:DAYLIGHT
BEGIN:STANDARD
TZOFFSETFROM:-0400
TZOFFSETTO:-0500
TZNAME:EST
DTSTART:20241103T060000
END:STANDARD
BEGIN:DAYLIGHT
TZOFFSETFROM:-0500
TZOFFSETTO:-0400
TZNAME:EDT
DTSTART:20250309T070000
END:DAYLIGHT
BEGIN:STANDARD
TZOFFSETFROM:-0400
TZOFFSETTO:-0500
TZNAME:EST
DTSTART:20251102T060000
END:STANDARD
BEGIN:DAYLIGHT
TZOFFSETFROM:-0500
TZOFFSETTO:-0400
TZNAME:EDT
DTSTART:20260308T070000
END:DAYLIGHT
BEGIN:STANDARD
TZOFFSETFROM:-0400
TZOFFSETTO:-0500
TZNAME:EST
DTSTART:20261101T060000
END:STANDARD
END:VTIMEZONE
BEGIN:VEVENT
DTSTART;TZID=America/New_York:20250709T120000
DTEND;TZID=America/New_York:20250709T130000
DTSTAMP:20260425T210625
CREATED:20250705T145115Z
LAST-MODIFIED:20250705T145115Z
UID:12898-1752062400-1752066000@clevelandaudubon.org
SUMMARY:Good Bug - Bad Bug  via Zoom
DESCRIPTION:Learn about increasing biodiversity in our landscapes to attract more beneficial insects and help control insect pests. We achieve these goals by removing non-native invasive plants\, and adding a variety of native flowers\, shrubs and trees that beautify our yards throughout the growing season. More native plants will also attract more butterflies and birds for you to enjoy.\nYou decide what you want it to look like and what plants you prefer. A list of resources will be provided\, or you can invite the team at Nature in My Backyard to help.\nMatt Valencic is a Master Gardener of Geauga County and Chair of the Education Committee of the Audubon Society of Greater Cleveland. \nTo join the Zoom presentation please visit\nwww.natureinmybackyard.clevelandaudubon.org/programs
URL:https://clevelandaudubon.org/event/good-bug-bad-bug-via-zoom/
CATEGORIES:Backyard Naturalist,Education
ATTACH;FMTTYPE=image/jpeg:https://clevelandaudubon.org/wp-content/uploads/2015/01/Common-Eastern-Bumblebee-on-Rattlesnake-Master-plant-e1670433408110.jpg
END:VEVENT
BEGIN:VEVENT
DTSTART;TZID=America/New_York:20250725T193000
DTEND;TZID=America/New_York:20250725T210000
DTSTAMP:20260425T210625
CREATED:20250501T190057Z
LAST-MODIFIED:20250501T190057Z
UID:12882-1753471800-1753477200@clevelandaudubon.org
SUMMARY:Twilight Hike  Field Trip
DESCRIPTION:As the summer heat wanes the evening creatures begin to stir and make their appearance. Day-time creatures seek a place to roost or spend the night. Owls may call\, raccoons may argue\, fox may bark and coyotes may howl. Let’s see what we can turn up! Meet at the Aurora Sanctuary/Brettschneider Park parking lot located on the north side of Pioneer trail few hundred yards east of Page Road in Aurora. (896 East Pioneer Trail Aurora\, OH 44202)
URL:https://clevelandaudubon.org/event/twilight-hike-field-trip-3/
LOCATION:Aurora Audubon Sanctuary\, 896 E. Pioneer Trail\, Aurora\, OH\, 44202\, United States
CATEGORIES:Field Trip
ATTACH;FMTTYPE=image/jpeg:https://clevelandaudubon.org/wp-content/uploads/2021/05/Great-Horned-Owl-twins-and-mom-2-e1746126036123.jpg
END:VEVENT
END:VCALENDAR