BEGIN:VCALENDAR
VERSION:2.0
PRODID:-//Audubon Society of Greater Cleveland - ECPv6.15.20//NONSGML v1.0//EN
CALSCALE:GREGORIAN
METHOD:PUBLISH
X-WR-CALNAME:Audubon Society of Greater Cleveland
X-ORIGINAL-URL:https://clevelandaudubon.org
X-WR-CALDESC:Events for Audubon Society of Greater Cleveland
REFRESH-INTERVAL;VALUE=DURATION:PT1H
X-Robots-Tag:noindex
X-PUBLISHED-TTL:PT1H
BEGIN:VTIMEZONE
TZID:America/New_York
BEGIN:DAYLIGHT
TZOFFSETFROM:-0500
TZOFFSETTO:-0400
TZNAME:EDT
DTSTART:20230312T070000
END:DAYLIGHT
BEGIN:STANDARD
TZOFFSETFROM:-0400
TZOFFSETTO:-0500
TZNAME:EST
DTSTART:20231105T060000
END:STANDARD
BEGIN:DAYLIGHT
TZOFFSETFROM:-0500
TZOFFSETTO:-0400
TZNAME:EDT
DTSTART:20240310T070000
END:DAYLIGHT
BEGIN:STANDARD
TZOFFSETFROM:-0400
TZOFFSETTO:-0500
TZNAME:EST
DTSTART:20241103T060000
END:STANDARD
BEGIN:DAYLIGHT
TZOFFSETFROM:-0500
TZOFFSETTO:-0400
TZNAME:EDT
DTSTART:20250309T070000
END:DAYLIGHT
BEGIN:STANDARD
TZOFFSETFROM:-0400
TZOFFSETTO:-0500
TZNAME:EST
DTSTART:20251102T060000
END:STANDARD
END:VTIMEZONE
BEGIN:VEVENT
DTSTART;TZID=America/New_York:20241113T120000
DTEND;TZID=America/New_York:20241113T130000
DTSTAMP:20260425T192918
CREATED:20241031T150425Z
LAST-MODIFIED:20241031T150425Z
UID:12636-1731499200-1731502800@clevelandaudubon.org
SUMMARY:Where do they go?  via Zoom
DESCRIPTION:Back by popular demand! Zoom in to hear Dave Tomashefski speak:\nWhere Do They Go? \nWe love to watch pollinators visiting our flowers\, but as the growing season ends\, we may wonder about the pollinators’ lives away from the flowers. Where do they go to find shelter\, and how can we modify our gardens to give these insects a home? This presentation explores the garden as though it were a city of pollinators with habitat features that we\, the gardeners\, can provide. Special emphasis will be given to winter shelter.\nDave Tomashefski\, the Director of Education for Meadow City Native Plant Nursery\, will speak on the importance of leaving the leaves\, to the lives of butterflies\, bees and moths – and so much more! By treating fall leaves and stems gently\, we can improve the overwintering success of the pollinators we work so hard to attract. \nJoin the Zoom Presentation\nhttps://us06web.zoom.us/j/81271573092?pwd=PZ4PHwedQuZ5juF9avFBz57lLSvHQb.1\nMeeting ID: 812 7157 3092\nPasscode: 030261
URL:https://clevelandaudubon.org/event/where-do-they-go-via-zoom/
CATEGORIES:Backyard Naturalist,Education
ATTACH;FMTTYPE=image/jpeg:https://clevelandaudubon.org/wp-content/uploads/2015/01/Common-Eastern-Bumblebee-on-Rattlesnake-Master-plant-e1670433408110.jpg
END:VEVENT
END:VCALENDAR