BEGIN:VCALENDAR
VERSION:2.0
PRODID:-//Audubon Society of Greater Cleveland - ECPv6.15.20//NONSGML v1.0//EN
CALSCALE:GREGORIAN
METHOD:PUBLISH
X-WR-CALNAME:Audubon Society of Greater Cleveland
X-ORIGINAL-URL:https://clevelandaudubon.org
X-WR-CALDESC:Events for Audubon Society of Greater Cleveland
REFRESH-INTERVAL;VALUE=DURATION:PT1H
X-Robots-Tag:noindex
X-PUBLISHED-TTL:PT1H
BEGIN:VTIMEZONE
TZID:America/New_York
BEGIN:DAYLIGHT
TZOFFSETFROM:-0500
TZOFFSETTO:-0400
TZNAME:EDT
DTSTART:20230312T070000
END:DAYLIGHT
BEGIN:STANDARD
TZOFFSETFROM:-0400
TZOFFSETTO:-0500
TZNAME:EST
DTSTART:20231105T060000
END:STANDARD
BEGIN:DAYLIGHT
TZOFFSETFROM:-0500
TZOFFSETTO:-0400
TZNAME:EDT
DTSTART:20240310T070000
END:DAYLIGHT
BEGIN:STANDARD
TZOFFSETFROM:-0400
TZOFFSETTO:-0500
TZNAME:EST
DTSTART:20241103T060000
END:STANDARD
BEGIN:DAYLIGHT
TZOFFSETFROM:-0500
TZOFFSETTO:-0400
TZNAME:EDT
DTSTART:20250309T070000
END:DAYLIGHT
BEGIN:STANDARD
TZOFFSETFROM:-0400
TZOFFSETTO:-0500
TZNAME:EST
DTSTART:20251102T060000
END:STANDARD
END:VTIMEZONE
BEGIN:VEVENT
DTSTART;TZID=America/New_York:20241017T190000
DTEND;TZID=America/New_York:20241017T200000
DTSTAMP:20260425T211131
CREATED:20240924T142855Z
LAST-MODIFIED:20240924T142855Z
UID:12599-1729191600-1729195200@clevelandaudubon.org
SUMMARY:Extraordinary Adaptations  via Zoom
DESCRIPTION:Extraordinary Adaptations: The Science and Wonder of Migration with Dr. Sarah Mabey \nThe migratory life is more than just an easy trip to the sunny tropics. Migration is a demanding and dangerous endeavor. Learn how migratory birds meet the challenges of life on the move and how scientists are uncovering their extraordinary adaptations. \nRegistration required. Use this is the link for registration: \nhttps://us02web.zoom.us/meeting/register/tZUvduChpj8vHdDsVQ4-ovLGfa_I7cU8F_pW
URL:https://clevelandaudubon.org/event/extraordinary-adaptations-via-zoom/
CATEGORIES:Education
ATTACH;FMTTYPE=image/png:https://clevelandaudubon.org/wp-content/uploads/2015/07/Sarah-Mabey.png
END:VEVENT
END:VCALENDAR