BEGIN:VCALENDAR
VERSION:2.0
PRODID:-//Audubon Society of Greater Cleveland - ECPv6.15.20//NONSGML v1.0//EN
CALSCALE:GREGORIAN
METHOD:PUBLISH
X-WR-CALNAME:Audubon Society of Greater Cleveland
X-ORIGINAL-URL:https://clevelandaudubon.org
X-WR-CALDESC:Events for Audubon Society of Greater Cleveland
REFRESH-INTERVAL;VALUE=DURATION:PT1H
X-Robots-Tag:noindex
X-PUBLISHED-TTL:PT1H
BEGIN:VTIMEZONE
TZID:America/New_York
BEGIN:DAYLIGHT
TZOFFSETFROM:-0500
TZOFFSETTO:-0400
TZNAME:EDT
DTSTART:20240310T070000
END:DAYLIGHT
BEGIN:STANDARD
TZOFFSETFROM:-0400
TZOFFSETTO:-0500
TZNAME:EST
DTSTART:20241103T060000
END:STANDARD
BEGIN:DAYLIGHT
TZOFFSETFROM:-0500
TZOFFSETTO:-0400
TZNAME:EDT
DTSTART:20250309T070000
END:DAYLIGHT
BEGIN:STANDARD
TZOFFSETFROM:-0400
TZOFFSETTO:-0500
TZNAME:EST
DTSTART:20251102T060000
END:STANDARD
BEGIN:DAYLIGHT
TZOFFSETFROM:-0500
TZOFFSETTO:-0400
TZNAME:EDT
DTSTART:20260308T070000
END:DAYLIGHT
BEGIN:STANDARD
TZOFFSETFROM:-0400
TZOFFSETTO:-0500
TZNAME:EST
DTSTART:20261101T060000
END:STANDARD
END:VTIMEZONE
BEGIN:VEVENT
DTSTART;TZID=America/New_York:20250417T190000
DTEND;TZID=America/New_York:20250417T200000
DTSTAMP:20260425T092513
CREATED:20250220T201718Z
LAST-MODIFIED:20250220T201718Z
UID:12751-1744916400-1744920000@clevelandaudubon.org
SUMMARY:Warbler Warm-up  via Zoom
DESCRIPTION:The prettiest birds on the planet will be arriving in Ohio during April and May. Whether you are a new birder or a veteran\, join us to polish your I.D. skills or to just enjoy the beautiful pictures. Many tips on separating similar species. Handouts on our website after the program. \nREGISTRATION LINK: \nRegister in advance for this meeting: \nhttps://us02web.zoom.us/meeting/register/54k2GQNRSGm8zc_hygwCNQ \nAfter registering\, you will receive a confirmation email containing information about joining the meeting.
URL:https://clevelandaudubon.org/event/warbler-warm-up-via-zoom-2/
CATEGORIES:Backyard Naturalist,Education
ATTACH;FMTTYPE=image/jpeg:https://clevelandaudubon.org/wp-content/uploads/2023/04/Blackburnian-Warbler-1-e1710711697797.jpg
END:VEVENT
END:VCALENDAR