BEGIN:VCALENDAR
VERSION:2.0
PRODID:-//Audubon Society of Greater Cleveland - ECPv6.15.20//NONSGML v1.0//EN
CALSCALE:GREGORIAN
METHOD:PUBLISH
X-WR-CALNAME:Audubon Society of Greater Cleveland
X-ORIGINAL-URL:https://clevelandaudubon.org
X-WR-CALDESC:Events for Audubon Society of Greater Cleveland
REFRESH-INTERVAL;VALUE=DURATION:PT1H
X-Robots-Tag:noindex
X-PUBLISHED-TTL:PT1H
BEGIN:VTIMEZONE
TZID:America/New_York
BEGIN:DAYLIGHT
TZOFFSETFROM:-0500
TZOFFSETTO:-0400
TZNAME:EDT
DTSTART:20240310T070000
END:DAYLIGHT
BEGIN:STANDARD
TZOFFSETFROM:-0400
TZOFFSETTO:-0500
TZNAME:EST
DTSTART:20241103T060000
END:STANDARD
BEGIN:DAYLIGHT
TZOFFSETFROM:-0500
TZOFFSETTO:-0400
TZNAME:EDT
DTSTART:20250309T070000
END:DAYLIGHT
BEGIN:STANDARD
TZOFFSETFROM:-0400
TZOFFSETTO:-0500
TZNAME:EST
DTSTART:20251102T060000
END:STANDARD
BEGIN:DAYLIGHT
TZOFFSETFROM:-0500
TZOFFSETTO:-0400
TZNAME:EDT
DTSTART:20260308T070000
END:DAYLIGHT
BEGIN:STANDARD
TZOFFSETFROM:-0400
TZOFFSETTO:-0500
TZNAME:EST
DTSTART:20261101T060000
END:STANDARD
END:VTIMEZONE
BEGIN:VEVENT
DTSTART;TZID=America/New_York:20250312T120000
DTEND;TZID=America/New_York:20250312T130000
DTSTAMP:20260425T112319
CREATED:20250220T202959Z
LAST-MODIFIED:20250220T202959Z
UID:12753-1741780800-1741784400@clevelandaudubon.org
SUMMARY:Planting for the Planet 101  via Zoom
DESCRIPTION:Don’t miss our next Brown Bagging it in My Backyard Zoom talk on Wednesday\, March 12 at noon. Zoom in to hear Citizen Scientist John Barber’s talk Planting for the Planet 101. As the climate emergency brings awareness that nature exists in our own yards\, not only in parks\, people are looking for a new way to garden. John Barber will present practical ideas about how to begin\, or continue\, to increase habitat and reduce lawn in your own green space.  \nVisit our website at https:natureinmybackyard.clevelandaudubon.org to register.
URL:https://clevelandaudubon.org/event/planting-for-the-planet-101-via-zoom/
CATEGORIES:Education
ATTACH;FMTTYPE=image/jpeg:https://clevelandaudubon.org/wp-content/uploads/2023/07/Nature-inmy-backyard-e1713800484633.jpg
END:VEVENT
BEGIN:VEVENT
DTSTART;TZID=America/New_York:20250320T190000
DTEND;TZID=America/New_York:20250320T200000
DTSTAMP:20260425T112319
CREATED:20250220T201422Z
LAST-MODIFIED:20250220T201422Z
UID:12749-1742497200-1742500800@clevelandaudubon.org
SUMMARY:Insects in the Forest Canopy  via Zoom
DESCRIPTION:Insect interactions high in the canopy of a forest have largely remained a mystery. To understand what’s happening in and above the canopy\, one must visit it. Here\, I focus on how accessing\, quantifying\, and inferring ecological interactions in and above the forest canopy alters our understanding of forest insect ecology and end with a participatory discussion on a novel project design. \nREGISTRATION LINK: \nRegister in advance for this meeting: \nhttps://us02web.zoom.us/meeting/register/vrbQnxE7RumQBq_A2iCU2w \nAfter registering\, you will receive a confirmation email containing information about joining the meeting.
URL:https://clevelandaudubon.org/event/insects-in-the-forest-canopy-via-zoom/
CATEGORIES:Backyard Naturalist,Education
ATTACH;FMTTYPE=image/jpeg:https://clevelandaudubon.org/wp-content/uploads/2022/08/katydid.jpeg
END:VEVENT
END:VCALENDAR