BEGIN:VCALENDAR
VERSION:2.0
PRODID:-//Audubon Society of Greater Cleveland - ECPv6.15.20//NONSGML v1.0//EN
CALSCALE:GREGORIAN
METHOD:PUBLISH
X-WR-CALNAME:Audubon Society of Greater Cleveland
X-ORIGINAL-URL:https://clevelandaudubon.org
X-WR-CALDESC:Events for Audubon Society of Greater Cleveland
REFRESH-INTERVAL;VALUE=DURATION:PT1H
X-Robots-Tag:noindex
X-PUBLISHED-TTL:PT1H
BEGIN:VTIMEZONE
TZID:America/New_York
BEGIN:DAYLIGHT
TZOFFSETFROM:-0500
TZOFFSETTO:-0400
TZNAME:EDT
DTSTART:20250309T070000
END:DAYLIGHT
BEGIN:STANDARD
TZOFFSETFROM:-0400
TZOFFSETTO:-0500
TZNAME:EST
DTSTART:20251102T060000
END:STANDARD
BEGIN:DAYLIGHT
TZOFFSETFROM:-0500
TZOFFSETTO:-0400
TZNAME:EDT
DTSTART:20260308T070000
END:DAYLIGHT
BEGIN:STANDARD
TZOFFSETFROM:-0400
TZOFFSETTO:-0500
TZNAME:EST
DTSTART:20261101T060000
END:STANDARD
BEGIN:DAYLIGHT
TZOFFSETFROM:-0500
TZOFFSETTO:-0400
TZNAME:EDT
DTSTART:20270314T070000
END:DAYLIGHT
BEGIN:STANDARD
TZOFFSETFROM:-0400
TZOFFSETTO:-0500
TZNAME:EST
DTSTART:20271107T060000
END:STANDARD
END:VTIMEZONE
BEGIN:VEVENT
DTSTART;TZID=America/New_York:20260204T180000
DTEND;TZID=America/New_York:20260204T190000
DTSTAMP:20260425T072807
CREATED:20260114T171150Z
LAST-MODIFIED:20260114T171150Z
UID:13197-1770228000-1770231600@clevelandaudubon.org
SUMMARY:Birds of NE Ohio  Program
DESCRIPTION:Over 200 species of birds can be found in NE Ohio in a typical year. Some are year-round residents and others just pass through on their way to the Boreal Forests of Canada. Others fly across the Gulf of Mexico non-stop to have their babies in our back yards! Get a close-up look at 100 of the most common residents\, migrants and breeding birds of NE Ohio and learn where and when to find them. Presented by Matt Valencic.
URL:https://clevelandaudubon.org/event/birds-of-ne-ohio-program-4/
LOCATION:Bay Village Library\, 27400 Wolf Road\, Bay Village\, OH\, United States
CATEGORIES:Backyard Naturalist,Education
ATTACH;FMTTYPE=image/png:https://clevelandaudubon.org/wp-content/uploads/2025/03/Phoebe-rtt-e1758643956317.png
END:VEVENT
BEGIN:VEVENT
DTSTART;TZID=America/New_York:20260215T093000
DTEND;TZID=America/New_York:20260215T113000
DTSTAMP:20260425T072807
CREATED:20260103T161752Z
LAST-MODIFIED:20260103T161752Z
UID:13191-1771147800-1771155000@clevelandaudubon.org
SUMMARY:Great Backyard Bird Count  Field Trip
DESCRIPTION:This annual\, international event was developed and promoted by Cornell Lab of Ornithology in collaboration with National Audubon Society in 1998. To participate you can join us on our winter bird survey hike. Help us make Ohio a top contributor this year! We will meet at the Aurora Sanctuary at 9:30 in the Bretschneider Park parking lot a few hundred yards east of Page Road on the north side of East Pioneer Trail in Aurora (896 East Pioneer Trail)
URL:https://clevelandaudubon.org/event/great-backyard-bird-count-field-trip-7/
LOCATION:Aurora Audubon Sanctuary\, 896 E. Pioneer Trail\, Aurora\, OH\, 44202\, United States
CATEGORIES:Field Trip
ATTACH;FMTTYPE=image/jpeg:https://clevelandaudubon.org/wp-content/uploads/2025/02/GBBC1-e1767457044738.jpg
END:VEVENT
END:VCALENDAR