BEGIN:VCALENDAR
VERSION:2.0
PRODID:-//Audubon Society of Greater Cleveland - ECPv6.15.20//NONSGML v1.0//EN
CALSCALE:GREGORIAN
METHOD:PUBLISH
X-ORIGINAL-URL:https://clevelandaudubon.org
X-WR-CALDESC:Events for Audubon Society of Greater Cleveland
REFRESH-INTERVAL;VALUE=DURATION:PT1H
X-Robots-Tag:noindex
X-PUBLISHED-TTL:PT1H
BEGIN:VTIMEZONE
TZID:America/New_York
BEGIN:DAYLIGHT
TZOFFSETFROM:-0500
TZOFFSETTO:-0400
TZNAME:EDT
DTSTART:20240310T070000
END:DAYLIGHT
BEGIN:STANDARD
TZOFFSETFROM:-0400
TZOFFSETTO:-0500
TZNAME:EST
DTSTART:20241103T060000
END:STANDARD
BEGIN:DAYLIGHT
TZOFFSETFROM:-0500
TZOFFSETTO:-0400
TZNAME:EDT
DTSTART:20250309T070000
END:DAYLIGHT
BEGIN:STANDARD
TZOFFSETFROM:-0400
TZOFFSETTO:-0500
TZNAME:EST
DTSTART:20251102T060000
END:STANDARD
BEGIN:DAYLIGHT
TZOFFSETFROM:-0500
TZOFFSETTO:-0400
TZNAME:EDT
DTSTART:20260308T070000
END:DAYLIGHT
BEGIN:STANDARD
TZOFFSETFROM:-0400
TZOFFSETTO:-0500
TZNAME:EST
DTSTART:20261101T060000
END:STANDARD
END:VTIMEZONE
BEGIN:VEVENT
DTSTART;TZID=America/New_York:20250614T150000
DTEND;TZID=America/New_York:20250614T190000
DTSTAMP:20260425T092714
CREATED:20250501T184422Z
LAST-MODIFIED:20250501T184422Z
UID:12876-1749913200-1749927600@clevelandaudubon.org
SUMMARY:Annual Dinner & Meeting  Program
DESCRIPTION:On June 14th\, we will celebrate our members and volunteers at our Annual Dinner and Meeting at the beautiful Veteran’s Legacy Woods in Geauga County\n(14085 Ravenna Road in Newbury).\nWe will enjoy a wonderful walk in the woods starting at 3pm\, followed by fellowship and a short business meeting.\nDinner will be served at about 5:30pm. \nT h e evening will be topped off with renowned naturalist and fabulous speaker\, Judy Semroc! She will entertain us with tales of the amazing chimney swifts and other fascinating\nobservations through an expert naturalist’s eye. \nPlease make your reservations today! $35 per person.\nMail a check and the names of everyone\nin your party to: \nASGC Annual Dinner P.O. Box 391037\, Solon\, OH  44139 \nLooking forward to seeing everyone there!
URL:https://clevelandaudubon.org/event/annual-dinner-meeting-program/
LOCATION:Veterans Legacy Woods\, 14085 Ravenna Rd\, Newbury Township\, OH\, 44065\, United States
ATTACH;FMTTYPE=image/jpeg:https://clevelandaudubon.org/wp-content/uploads/2024/03/vlw-lodge-freedom-13-e1746125035416.jpg
END:VEVENT
END:VCALENDAR