BEGIN:VCALENDAR
VERSION:2.0
PRODID:-//Audubon Society of Greater Cleveland - ECPv6.15.20//NONSGML v1.0//EN
CALSCALE:GREGORIAN
METHOD:PUBLISH
X-WR-CALNAME:Audubon Society of Greater Cleveland
X-ORIGINAL-URL:https://clevelandaudubon.org
X-WR-CALDESC:Events for Audubon Society of Greater Cleveland
REFRESH-INTERVAL;VALUE=DURATION:PT1H
X-Robots-Tag:noindex
X-PUBLISHED-TTL:PT1H
BEGIN:VTIMEZONE
TZID:America/New_York
BEGIN:DAYLIGHT
TZOFFSETFROM:-0500
TZOFFSETTO:-0400
TZNAME:EDT
DTSTART:20240310T070000
END:DAYLIGHT
BEGIN:STANDARD
TZOFFSETFROM:-0400
TZOFFSETTO:-0500
TZNAME:EST
DTSTART:20241103T060000
END:STANDARD
BEGIN:DAYLIGHT
TZOFFSETFROM:-0500
TZOFFSETTO:-0400
TZNAME:EDT
DTSTART:20250309T070000
END:DAYLIGHT
BEGIN:STANDARD
TZOFFSETFROM:-0400
TZOFFSETTO:-0500
TZNAME:EST
DTSTART:20251102T060000
END:STANDARD
BEGIN:DAYLIGHT
TZOFFSETFROM:-0500
TZOFFSETTO:-0400
TZNAME:EDT
DTSTART:20260308T070000
END:DAYLIGHT
BEGIN:STANDARD
TZOFFSETFROM:-0400
TZOFFSETTO:-0500
TZNAME:EST
DTSTART:20261101T060000
END:STANDARD
END:VTIMEZONE
BEGIN:VEVENT
DTSTART;TZID=America/New_York:20250108T120000
DTEND;TZID=America/New_York:20250108T130000
DTSTAMP:20260425T112257
CREATED:20250103T173326Z
LAST-MODIFIED:20250103T173326Z
UID:12654-1736337600-1736341200@clevelandaudubon.org
SUMMARY:Winter Sowing  via Zoom
DESCRIPTION:Winter sowing is a germination method starting seeds outdoors in an enclosed container in winter. Sowing native seeds in January is a fantastic way to kickstart your spring garden! Winter sowing offers the unique advantage of giving your plants a head start\, allowing them to grow and develop faster than those sown in the spring. By planting seeds in an enclosed container\, you can place them outdoors where they will benefit from a cozy micro-environment that helps accelerate both germination and growth. This seed sowing presentation will provide you with the knowledge and techniques needed to sow seeds effectively and successfully. Presented by the Natural Resources team at the Nature Center of Shaker Lakes.\nJoin the Zoom Presentation:\nhttps://us06web.zoom.us/j/82474073716?pwd=\n1BaaewMtQK51WQukXhzTsTfCqvcjbZ.1\nMeeting ID: 824 7407 3716\nPasscode: 671486 \nNature in My Backyard is a program of the\nAudubon Society of Greater Cleveland and the Shaker Lakes Garden Club. \n 
URL:https://clevelandaudubon.org/event/winter-sowing-via-zoom/
LOCATION:OH
CATEGORIES:Backyard Naturalist,Education
ATTACH;FMTTYPE=image/jpeg:https://clevelandaudubon.org/wp-content/uploads/2023/07/Nature-inmy-backyard-e1713800484633.jpg
END:VEVENT
BEGIN:VEVENT
DTSTART;TZID=America/New_York:20250116T190000
DTEND;TZID=America/New_York:20250116T200000
DTSTAMP:20260425T112257
CREATED:20241121T195036Z
LAST-MODIFIED:20250111T170549Z
UID:12646-1737054000-1737057600@clevelandaudubon.org
SUMMARY:Sparrows & Finches of NE Ohio  via Zoom
DESCRIPTION:Due to an unexpected scheduling conflict\, this program has been changed to: “LBJs: Sparrows & Finches of NE Ohio.” \nLittle Brown Jobs!  That’s how many of us identify sparrows and finches\, mostly because they are LBJs!  But each of the 28 species we find in NE Ohio has one or more features to help lead to its identity.  Through lots of photographs this program introduces you to these small birds\, where to find them\, when to expect to see them\, and how to separate them from similar species. It’s time to put a name to the face!  About 1-hour. Presented by Matt Valencic. \nRegister in advance for this meeting: \nhttps://us02web.zoom.us/meeting/register/tZIof-2vqjMvHdCOTdNohYmMrHl767MgbzgW \nAfter registering\, you will receive a confirmation email containing information about joining the meeting.
URL:https://clevelandaudubon.org/event/hach-otis-and-pleasant-valley-a-history-via-zoom/
LOCATION:OH
CATEGORIES:Backyard Naturalist,Education
ATTACH;FMTTYPE=image/jpeg:https://clevelandaudubon.org/wp-content/uploads/2015/01/White-throated-Sparrow-8-1-e1705951627140.jpg
END:VEVENT
BEGIN:VEVENT
DTSTART;TZID=America/New_York:20250118T090000
DTEND;TZID=America/New_York:20250118T110000
DTSTAMP:20260425T112257
CREATED:20241121T194321Z
LAST-MODIFIED:20241121T194321Z
UID:12642-1737190800-1737198000@clevelandaudubon.org
SUMMARY:Winter Track Walk  Field Trip
DESCRIPTION:Our resident wildlife use our trails too! Due to their nocturnal nature or their skittish wariness\, we rarely see them but they do leave evidence behind. You may help me discover “who” walked the trail ahead of us. Let’s hope for a thin coating of new fallen snow for them to register their marks on the path. Meet at the Novak Sanctuary parking lot on the east side of Townline Road about a mile north of State Route 82 on the Aurora/Mantua border. Please wear waterproof footwear.
URL:https://clevelandaudubon.org/event/winter-track-walk-field-trip-6/
LOCATION:Novak Sanctuary\, 382 Townline Road\, Mantua\, OH\, 44202\, United States
CATEGORIES:Field Trip
ATTACH;FMTTYPE=image/jpeg:https://clevelandaudubon.org/wp-content/uploads/2015/12/screech-owl-imprint.jpg
END:VEVENT
END:VCALENDAR