BEGIN:VCALENDAR
VERSION:2.0
PRODID:-//Audubon Society of Greater Cleveland - ECPv6.15.20//NONSGML v1.0//EN
CALSCALE:GREGORIAN
METHOD:PUBLISH
X-WR-CALNAME:Audubon Society of Greater Cleveland
X-ORIGINAL-URL:https://clevelandaudubon.org
X-WR-CALDESC:Events for Audubon Society of Greater Cleveland
REFRESH-INTERVAL;VALUE=DURATION:PT1H
X-Robots-Tag:noindex
X-PUBLISHED-TTL:PT1H
BEGIN:VTIMEZONE
TZID:America/New_York
BEGIN:DAYLIGHT
TZOFFSETFROM:-0500
TZOFFSETTO:-0400
TZNAME:EDT
DTSTART:20230312T070000
END:DAYLIGHT
BEGIN:STANDARD
TZOFFSETFROM:-0400
TZOFFSETTO:-0500
TZNAME:EST
DTSTART:20231105T060000
END:STANDARD
BEGIN:DAYLIGHT
TZOFFSETFROM:-0500
TZOFFSETTO:-0400
TZNAME:EDT
DTSTART:20240310T070000
END:DAYLIGHT
BEGIN:STANDARD
TZOFFSETFROM:-0400
TZOFFSETTO:-0500
TZNAME:EST
DTSTART:20241103T060000
END:STANDARD
BEGIN:DAYLIGHT
TZOFFSETFROM:-0500
TZOFFSETTO:-0400
TZNAME:EDT
DTSTART:20250309T070000
END:DAYLIGHT
BEGIN:STANDARD
TZOFFSETFROM:-0400
TZOFFSETTO:-0500
TZNAME:EST
DTSTART:20251102T060000
END:STANDARD
END:VTIMEZONE
BEGIN:VEVENT
DTSTART;TZID=America/New_York:20241219T190000
DTEND;TZID=America/New_York:20241219T200000
DTSTAMP:20260425T130747
CREATED:20241121T194702Z
LAST-MODIFIED:20241121T194702Z
UID:12644-1734634800-1734638400@clevelandaudubon.org
SUMMARY:Wetland Birds of the Eastern U.S.  via Zoom
DESCRIPTION:Wetlands are highly productive ecosystems that support aquatic AND terrestrial plants and animals.  They provide nesting habitat for many species in the summer and resting/feeding habitat for migrating waterfowl and passerines in spring and fall.  This presentation showcases iconic wetland species like egrets\, herons\, ibis and rails along with raptors\, waterfowl\, warblers and more.  There is even a bonus section presenting insects\, reptiles\, amphibians and mammals that make their homes in wetlands. \nPresented by Matt Valencic \nRegister in advance for this meeting: \nhttps://us02web.zoom.us/meeting/register/tZclcOugpzojG9a74F2Wi4WsweXbTh6AXvFt \nAfter registering\, you will receive a confirmation email containing information about joining the meeting.
URL:https://clevelandaudubon.org/event/wetland-birds-of-the-eastern-u-s-via-zoom/
LOCATION:OH
CATEGORIES:Backyard Naturalist,Education
ATTACH;FMTTYPE=image/jpeg:https://clevelandaudubon.org/wp-content/uploads/2024/04/Snowy-Egret-MV-vsm.jpg
END:VEVENT
BEGIN:VEVENT
DTSTART;TZID=America/New_York:20241220T190000
DTEND;TZID=America/New_York:20241220T210000
DTSTAMP:20260425T130747
CREATED:20240924T144134Z
LAST-MODIFIED:20240924T144134Z
UID:12606-1734721200-1734728400@clevelandaudubon.org
SUMMARY:Winter Solstice Hike  Field Trip
DESCRIPTION:Have you ever taken a night walk in the winter field and forest? The winter woods are quiet and peaceful if the weather is calm. It will restore and reset your inner peace. We will be celebrating one of the longest nights of the year with this winter night hike. Let us hope that the stars and moon will shine brightly through the cool clear atmosphere and know that we have a chance at hearing an owl or a coyote singing to the moon. Meet at the Novak Sanctuary parking lot on the east side of Townline Road a little less than a mile north of State Route 82 in Aurora.
URL:https://clevelandaudubon.org/event/winter-solstice-hike-field-trip-2/
LOCATION:Novak Sanctuary\, 382 Townline Road\, Mantua\, OH\, 44202\, United States
CATEGORIES:Field Trip
ATTACH;FMTTYPE=image/jpeg:https://clevelandaudubon.org/wp-content/uploads/2015/01/Winter_Novak-e1637773095315.jpg
END:VEVENT
END:VCALENDAR