BEGIN:VCALENDAR
VERSION:2.0
PRODID:-//Audubon Society of Greater Cleveland - ECPv6.15.20//NONSGML v1.0//EN
CALSCALE:GREGORIAN
METHOD:PUBLISH
X-WR-CALNAME:Audubon Society of Greater Cleveland
X-ORIGINAL-URL:https://clevelandaudubon.org
X-WR-CALDESC:Events for Audubon Society of Greater Cleveland
REFRESH-INTERVAL;VALUE=DURATION:PT1H
X-Robots-Tag:noindex
X-PUBLISHED-TTL:PT1H
BEGIN:VTIMEZONE
TZID:America/New_York
BEGIN:DAYLIGHT
TZOFFSETFROM:-0500
TZOFFSETTO:-0400
TZNAME:EDT
DTSTART:20230312T070000
END:DAYLIGHT
BEGIN:STANDARD
TZOFFSETFROM:-0400
TZOFFSETTO:-0500
TZNAME:EST
DTSTART:20231105T060000
END:STANDARD
BEGIN:DAYLIGHT
TZOFFSETFROM:-0500
TZOFFSETTO:-0400
TZNAME:EDT
DTSTART:20240310T070000
END:DAYLIGHT
BEGIN:STANDARD
TZOFFSETFROM:-0400
TZOFFSETTO:-0500
TZNAME:EST
DTSTART:20241103T060000
END:STANDARD
BEGIN:DAYLIGHT
TZOFFSETFROM:-0500
TZOFFSETTO:-0400
TZNAME:EDT
DTSTART:20250309T070000
END:DAYLIGHT
BEGIN:STANDARD
TZOFFSETFROM:-0400
TZOFFSETTO:-0500
TZNAME:EST
DTSTART:20251102T060000
END:STANDARD
END:VTIMEZONE
BEGIN:VEVENT
DTSTART;TZID=America/New_York:20240906T160000
DTEND;TZID=America/New_York:20240907T183000
DTSTAMP:20260425T175503
CREATED:20240819T154143Z
LAST-MODIFIED:20240819T154143Z
UID:12568-1725638400-1725733800@clevelandaudubon.org
SUMMARY:Chagrin River Bird Quest  Event
DESCRIPTION:This year celebrates 10 years of Chagrin River Bird Quest (CRBQ)\, the FREE 24-hour team birding challenge for families and birders of all skill levels. Birding begins on Friday September 6th at 4:00pm and concludes with a celebration and prizes on Saturday September 7th at 4:00pm.  \nThis year CRBQ will be headquartered at The Rookery\, 11100 Cedar Road in Chesterland\, where you can pick up your FREE T-shirt\, commemorative pen\, checklist and other materials on Friday from 4:00 – 6:00pm. Guided bird walks are scheduled Friday and Saturday and open to all (see separate article). \nThis FREE family-friendly event is an opportunity to get outside and enjoy all of nature during the fall bird migration. CRBQ also serves as an annual snapshot of the birds present in the Chagrin River Corridor IBA (Important Bird Area) which includes all the Chagrin River watershed. Birders are asked to stay within the IBA for all their sightings. \nSee you at Bird Quest! \nOnline registration is required! Click HERE to register.
URL:https://clevelandaudubon.org/event/chagrin-river-bird-quest-event-2/
LOCATION:The Rookery\, 10110 Cedar Road\, Munson Township\, OH\, 44026\, United States
CATEGORIES:Education
ATTACH;FMTTYPE=image/jpeg:https://clevelandaudubon.org/wp-content/uploads/2015/01/Bird-Quest-2021-Rookery-walk-MV-sm-e1751386548169.jpg
END:VEVENT
BEGIN:VEVENT
DTSTART;TZID=America/New_York:20240906T203000
DTEND;TZID=America/New_York:20240906T220000
DTSTAMP:20260425T175503
CREATED:20240819T155117Z
LAST-MODIFIED:20240819T155117Z
UID:12570-1725654600-1725660000@clevelandaudubon.org
SUMMARY:Owl Prowl  Field Trip
DESCRIPTION:Three guided walks are open to everyone during this year’s Chagrin River Bird Quest. No registration required – just show up before the start time. \nOwl Prowl\, Audubon Aurora Sancuary\, on Friday Sept. 6 @ 8:30pm. Meet at 8:15pm in the Brettschneider Park parking lot\, 881 E. Pioneer Trail\, Aurora\, OH. Primitive trail with some hills and stairs.
URL:https://clevelandaudubon.org/event/owl-prowl-field-trip-4/
LOCATION:Aurora Audubon Sanctuary\, 896 E. Pioneer Trail\, Aurora\, OH\, 44202\, United States
CATEGORIES:Field Trip
ATTACH;FMTTYPE=image/jpeg:https://clevelandaudubon.org/wp-content/uploads/2016/06/images.jpg
END:VEVENT
BEGIN:VEVENT
DTSTART;TZID=America/New_York:20240907T080000
DTEND;TZID=America/New_York:20240907T100000
DTSTAMP:20260425T175503
CREATED:20240819T155636Z
LAST-MODIFIED:20240819T155636Z
UID:12572-1725696000-1725703200@clevelandaudubon.org
SUMMARY:Chagrin River Park  Field Trip
DESCRIPTION:Three guided walks are open to everyone during this year’s Chagrin River Bird Quest. No registration required – just show up before the start time. \nChagrin River Park on Saturday Sept. 7 @ 8:00am. Meet at 7:45am in the parking lot at 1000 Rural Road\, Eastlake\, OH. Smooth\, flat trails.
URL:https://clevelandaudubon.org/event/chagrin-river-park-field-trip/
LOCATION:Chagrin River Park\, 1000 Rural Road\, Eastlake\, OH\, 44095\, United States
CATEGORIES:Field Trip
ATTACH;FMTTYPE=image/jpeg:https://clevelandaudubon.org/wp-content/uploads/2024/04/Goldfinch-Columbus-MV-vsm.jpg
END:VEVENT
BEGIN:VEVENT
DTSTART;TZID=America/New_York:20240907T080000
DTEND;TZID=America/New_York:20240907T100000
DTSTAMP:20260425T175503
CREATED:20240819T155929Z
LAST-MODIFIED:20240819T155929Z
UID:12575-1725696000-1725703200@clevelandaudubon.org
SUMMARY:The Rookery  Field Trip
DESCRIPTION:Three guided walks are open to everyone during this year’s Chagrin River Bird Quest. No registration required – just show up before the start time. \nThe Rookery on Saturday Sept. 7 @ 8:00am. Meet at 7:45am in the parking lot at 10110 Cedar Road\, Chesterland\, OH. Smooth\, flat trails.
URL:https://clevelandaudubon.org/event/the-rookery-field-trip/
LOCATION:The Rookery\, 10110 Cedar Road\, Munson Township\, OH\, 44026\, United States
CATEGORIES:Field Trip
ATTACH;FMTTYPE=image/jpeg:https://clevelandaudubon.org/wp-content/uploads/2023/04/Blackburnian-Warbler-1-e1710711697797.jpg
END:VEVENT
BEGIN:VEVENT
DTSTART;TZID=America/New_York:20240921T133000
DTEND;TZID=America/New_York:20240921T153000
DTSTAMP:20260425T175503
CREATED:20240906T174056Z
LAST-MODIFIED:20240906T174056Z
UID:12597-1726925400-1726932600@clevelandaudubon.org
SUMMARY:Fringed Gentians  Field Trip
DESCRIPTION:These beauties are among the last wildflowers to bloom of the season but well worth the wait. There are several species of Gentians in our area but the Fringed Gentian is an unusual and fabulous one. Also in bloom will be Closed or Bottle Gentian\, Ladies Tresses\, Great Lobelia\, Wingstem\, Goldenrod and Aster. Join us for a fall wildflower hike and you will be amazed at the color and bounty of autumn! Meet at the Bretschnieder parking lot on the north side of Pioneer Trail a few hundred yards east of Page Rd. in Aurora.
URL:https://clevelandaudubon.org/event/fringed-gentians-field-trip-2/
LOCATION:Aurora Audubon Sanctuary\, 896 E. Pioneer Trail\, Aurora\, OH\, 44202\, United States
CATEGORIES:Field Trip
ATTACH;FMTTYPE=image/jpeg:https://clevelandaudubon.org/wp-content/uploads/2015/07/Fringed-Gentian.jpg
END:VEVENT
END:VCALENDAR