BEGIN:VCALENDAR
VERSION:2.0
PRODID:-//Audubon Society of Greater Cleveland - ECPv6.15.20//NONSGML v1.0//EN
CALSCALE:GREGORIAN
METHOD:PUBLISH
X-ORIGINAL-URL:https://clevelandaudubon.org
X-WR-CALDESC:Events for Audubon Society of Greater Cleveland
REFRESH-INTERVAL;VALUE=DURATION:PT1H
X-Robots-Tag:noindex
X-PUBLISHED-TTL:PT1H
BEGIN:VTIMEZONE
TZID:America/New_York
BEGIN:DAYLIGHT
TZOFFSETFROM:-0500
TZOFFSETTO:-0400
TZNAME:EDT
DTSTART:20250309T070000
END:DAYLIGHT
BEGIN:STANDARD
TZOFFSETFROM:-0400
TZOFFSETTO:-0500
TZNAME:EST
DTSTART:20251102T060000
END:STANDARD
BEGIN:DAYLIGHT
TZOFFSETFROM:-0500
TZOFFSETTO:-0400
TZNAME:EDT
DTSTART:20260308T070000
END:DAYLIGHT
BEGIN:STANDARD
TZOFFSETFROM:-0400
TZOFFSETTO:-0500
TZNAME:EST
DTSTART:20261101T060000
END:STANDARD
BEGIN:DAYLIGHT
TZOFFSETFROM:-0500
TZOFFSETTO:-0400
TZNAME:EDT
DTSTART:20270314T070000
END:DAYLIGHT
BEGIN:STANDARD
TZOFFSETFROM:-0400
TZOFFSETTO:-0500
TZNAME:EST
DTSTART:20271107T060000
END:STANDARD
END:VTIMEZONE
BEGIN:VEVENT
DTSTART;TZID=America/New_York:20260606T150000
DTEND;TZID=America/New_York:20260606T193000
DTSTAMP:20260425T113058
CREATED:20260328T181550Z
LAST-MODIFIED:20260328T181550Z
UID:13242-1780758000-1780774200@clevelandaudubon.org
SUMMARY:ASGC Annual Dinner  Event
DESCRIPTION:ASGC Annual Meeting and Dinner \nJune 6\, 2026 \nVeterans Legacy Woods\, 14085 Ravenna Rd.\, Newbury Township\, OH \nSchedule of events: \nNature Walk…………………………3:00pm \nSocial Hour………………………….4:00pm \nMeeting & Awards………………..5:00pm \nDinner…………………………………5:30pm \nGuest Speaker…………………….. Jamey Emmert\, Avian Education Coordinator with the Ohio Division of Wildlife\, presents The Lake Erie Birding Trail. \nCaterer: “Vinny’s Italian Kitchen” \nCost: $35 per person.  \nTo RSVP\, make check out to Audubon Society of Greater Cleveland and mail to: \nASGC Annual Dinner \nP.O. Box 391037 \nSolon\, OH 44139
URL:https://clevelandaudubon.org/event/asgc-annual-dinner-event/
LOCATION:Veterans Legacy Woods\, 14085 Ravenna Rd\, Newbury Township\, OH\, 44065\, United States
CATEGORIES:Event
ATTACH;FMTTYPE=image/jpeg:https://clevelandaudubon.org/wp-content/uploads/2024/03/vlw-lodge-freedom-13-e1746125035416.jpg
END:VEVENT
END:VCALENDAR