BEGIN:VCALENDAR
VERSION:2.0
PRODID:-//Audubon Society of Greater Cleveland - ECPv6.15.20//NONSGML v1.0//EN
CALSCALE:GREGORIAN
METHOD:PUBLISH
X-WR-CALNAME:Audubon Society of Greater Cleveland
X-ORIGINAL-URL:https://clevelandaudubon.org
X-WR-CALDESC:Events for Audubon Society of Greater Cleveland
REFRESH-INTERVAL;VALUE=DURATION:PT1H
X-Robots-Tag:noindex
X-PUBLISHED-TTL:PT1H
BEGIN:VTIMEZONE
TZID:America/New_York
BEGIN:DAYLIGHT
TZOFFSETFROM:-0500
TZOFFSETTO:-0400
TZNAME:EDT
DTSTART:20140309T070000
END:DAYLIGHT
BEGIN:STANDARD
TZOFFSETFROM:-0400
TZOFFSETTO:-0500
TZNAME:EST
DTSTART:20141102T060000
END:STANDARD
BEGIN:DAYLIGHT
TZOFFSETFROM:-0500
TZOFFSETTO:-0400
TZNAME:EDT
DTSTART:20150308T070000
END:DAYLIGHT
BEGIN:STANDARD
TZOFFSETFROM:-0400
TZOFFSETTO:-0500
TZNAME:EST
DTSTART:20151101T060000
END:STANDARD
BEGIN:DAYLIGHT
TZOFFSETFROM:-0500
TZOFFSETTO:-0400
TZNAME:EDT
DTSTART:20160313T070000
END:DAYLIGHT
BEGIN:STANDARD
TZOFFSETFROM:-0400
TZOFFSETTO:-0500
TZNAME:EST
DTSTART:20161106T060000
END:STANDARD
BEGIN:DAYLIGHT
TZOFFSETFROM:-0500
TZOFFSETTO:-0400
TZNAME:EDT
DTSTART:20170312T070000
END:DAYLIGHT
BEGIN:STANDARD
TZOFFSETFROM:-0400
TZOFFSETTO:-0500
TZNAME:EST
DTSTART:20171105T060000
END:STANDARD
END:VTIMEZONE
BEGIN:VEVENT
DTSTART;TZID=America/New_York:20160116T093000
DTEND;TZID=America/New_York:20160116T113000
DTSTAMP:20260425T130737
CREATED:20151229T162641Z
LAST-MODIFIED:20151229T162641Z
UID:1917-1452936600-1452943800@clevelandaudubon.org
SUMMARY:Winter Track Walk  Field Trip
DESCRIPTION:An inch of fresh snow will hold the impressions of footprints giving us the clues as to whom or what has walked the trail before us. There are numerous possibilities from coyotes to Wild Turkeys. Many resident wildlife are so shy and retiring that we don’t even know what species share the woods with us. Dramatic predator/prey-life and death stories can be read by looking at the signs in the snow along the trail. Please join us at the Novak Sanctuary parking lot on the east side of Townline Road a little more than a half mile north of State Route 82 on the Aurora/Mantua border.
URL:https://clevelandaudubon.org/event/winter-track-walk-field-trip/
LOCATION:Novak Sanctuary\, 382 Townline Road\, Mantua\, OH\, 44202\, United States
CATEGORIES:Field Trip
ATTACH;FMTTYPE=image/jpeg:https://clevelandaudubon.org/wp-content/uploads/2015/12/screech-owl-imprint.jpg
END:VEVENT
BEGIN:VEVENT
DTSTART;TZID=America/New_York:20151114T150000
DTEND;TZID=America/New_York:20151114T170000
DTSTAMP:20260425T130737
CREATED:20151014T200843Z
LAST-MODIFIED:20151014T200843Z
UID:1849-1447513200-1447520400@clevelandaudubon.org
SUMMARY:The Leaves Are Down (but our spirits are up!)  (Field Trip)
DESCRIPTION:Without the leaf foliage our views will not be impaired and we will easily see the terrain and other topographical features of the landscape. Join us for a walk to see the changes that have occurred 1 year after clearing the southern fields at the Molnar Sanctuary. Last autumn Kenny Kresina spent many hours turning European Buckthorn that was too robust for our brush-hog into mulch. He used a specialized machine to cut and grind it. He has done some plantings since then and of course the Buckthorn is trying to rally a comeback but the battle has just begun. Meet at the Molnar Sanctuary parking lot on the west side of Page Road a few hundred yards north of Mennonite Road in Aurora.
URL:https://clevelandaudubon.org/event/the-leaves-are-down-but-our-spirits-are-up-field-trip/
LOCATION:Molnar Sanctuary\, 876 N. Page Road\, Aurora\, 44202\, United States
CATEGORIES:Field Trip
ATTACH;FMTTYPE=image/jpeg:https://clevelandaudubon.org/wp-content/uploads/2015/10/Molnar-buckthorn10.jpg
END:VEVENT
BEGIN:VEVENT
DTSTART;TZID=America/New_York:20151017T150000
DTEND;TZID=America/New_York:20151017T170000
DTSTAMP:20260425T130737
CREATED:20150922T191352Z
LAST-MODIFIED:20150922T200428Z
UID:1796-1445094000-1445101200@clevelandaudubon.org
SUMMARY:Nature’s Own Palette and Brush(Field Trip)
DESCRIPTION:This is such a fantastic time of year to appreciate all the wonderful colors and textures of our natural world. Depending on the weather we should see colors ranging from purplish-red and scarlet to golden yellows and many shades of brown. All over our region there will be “masterpieces” of landscapes! Join us for a hike in order to be in that masterpiece and get an up close and personal view of beauty all around us. The fall migration is on. Let’s see which species are recent arrivals and catch up on our old familiar year around residents. Meet at the Bretschnieder Park parking lot on the north side of Pioneer Trail a few hundred yards east of Page Road in Aurora.
URL:https://clevelandaudubon.org/event/natures-own-palette-and-brush-field-trip/
LOCATION:Aurora Audubon Sanctuary\, 896 E. Pioneer Trail\, Aurora\, OH\, 44202\, United States
CATEGORIES:Field Trip
ATTACH;FMTTYPE=image/jpeg:https://clevelandaudubon.org/wp-content/uploads/2015/01/Aurora.jpg
END:VEVENT
END:VCALENDAR