BEGIN:VCALENDAR
VERSION:2.0
PRODID:-//Audubon Society of Greater Cleveland - ECPv6.15.20//NONSGML v1.0//EN
CALSCALE:GREGORIAN
METHOD:PUBLISH
X-WR-CALNAME:Audubon Society of Greater Cleveland
X-ORIGINAL-URL:https://clevelandaudubon.org
X-WR-CALDESC:Events for Audubon Society of Greater Cleveland
REFRESH-INTERVAL;VALUE=DURATION:PT1H
X-Robots-Tag:noindex
X-PUBLISHED-TTL:PT1H
BEGIN:VTIMEZONE
TZID:America/New_York
BEGIN:DAYLIGHT
TZOFFSETFROM:-0500
TZOFFSETTO:-0400
TZNAME:EDT
DTSTART:20230312T070000
END:DAYLIGHT
BEGIN:STANDARD
TZOFFSETFROM:-0400
TZOFFSETTO:-0500
TZNAME:EST
DTSTART:20231105T060000
END:STANDARD
BEGIN:DAYLIGHT
TZOFFSETFROM:-0500
TZOFFSETTO:-0400
TZNAME:EDT
DTSTART:20240310T070000
END:DAYLIGHT
BEGIN:STANDARD
TZOFFSETFROM:-0400
TZOFFSETTO:-0500
TZNAME:EST
DTSTART:20241103T060000
END:STANDARD
BEGIN:DAYLIGHT
TZOFFSETFROM:-0500
TZOFFSETTO:-0400
TZNAME:EDT
DTSTART:20250309T070000
END:DAYLIGHT
BEGIN:STANDARD
TZOFFSETFROM:-0400
TZOFFSETTO:-0500
TZNAME:EST
DTSTART:20251102T060000
END:STANDARD
END:VTIMEZONE
BEGIN:VEVENT
DTSTART;TZID=America/New_York:20241103T133000
DTEND;TZID=America/New_York:20241103T153000
DTSTAMP:20260425T211246
CREATED:20240924T143759Z
LAST-MODIFIED:20240924T143759Z
UID:12603-1730640600-1730647800@clevelandaudubon.org
SUMMARY:Leaf Kicking Hike  Field Trip
DESCRIPTION:Remember the sound and feeling of wading through a carpet of leaves as a kid? Consider joining us for a walk through the fallen leaves. We will have a chance to see a turkey flock but we are not announcing that because when we do\, they all take cover and remain out of sight. Meet at the Aurora Sanctuary parking lot on the north side of Pioneer Trail a few hundred yards east of Page Road in Aurora.
URL:https://clevelandaudubon.org/event/leaf-kicking-hike-field-trip/
LOCATION:Aurora Audubon Sanctuary\, 896 E. Pioneer Trail\, Aurora\, OH\, 44202\, United States
CATEGORIES:Field Trip
ATTACH;FMTTYPE=image/jpeg:https://clevelandaudubon.org/wp-content/uploads/2024/09/Classic-Autumn-Leaves-Wallp-TLG-e1727188651429.jpg
END:VEVENT
END:VCALENDAR