BEGIN:VCALENDAR
VERSION:2.0
PRODID:-//Audubon Society of Greater Cleveland - ECPv6.15.20//NONSGML v1.0//EN
CALSCALE:GREGORIAN
METHOD:PUBLISH
X-ORIGINAL-URL:https://clevelandaudubon.org
X-WR-CALDESC:Events for Audubon Society of Greater Cleveland
REFRESH-INTERVAL;VALUE=DURATION:PT1H
X-Robots-Tag:noindex
X-PUBLISHED-TTL:PT1H
BEGIN:VTIMEZONE
TZID:America/New_York
BEGIN:DAYLIGHT
TZOFFSETFROM:-0500
TZOFFSETTO:-0400
TZNAME:EDT
DTSTART:20240310T070000
END:DAYLIGHT
BEGIN:STANDARD
TZOFFSETFROM:-0400
TZOFFSETTO:-0500
TZNAME:EST
DTSTART:20241103T060000
END:STANDARD
BEGIN:DAYLIGHT
TZOFFSETFROM:-0500
TZOFFSETTO:-0400
TZNAME:EDT
DTSTART:20250309T070000
END:DAYLIGHT
BEGIN:STANDARD
TZOFFSETFROM:-0400
TZOFFSETTO:-0500
TZNAME:EST
DTSTART:20251102T060000
END:STANDARD
BEGIN:DAYLIGHT
TZOFFSETFROM:-0500
TZOFFSETTO:-0400
TZNAME:EDT
DTSTART:20260308T070000
END:DAYLIGHT
BEGIN:STANDARD
TZOFFSETFROM:-0400
TZOFFSETTO:-0500
TZNAME:EST
DTSTART:20261101T060000
END:STANDARD
END:VTIMEZONE
BEGIN:VEVENT
DTSTART;TZID=America/New_York:20250322T083000
DTEND;TZID=America/New_York:20250322T120000
DTSTAMP:20260425T112514
CREATED:20250125T150629Z
LAST-MODIFIED:20250125T150629Z
UID:12744-1742632200-1742644800@clevelandaudubon.org
SUMMARY:Waterfowl Wander  Field Trip
DESCRIPTION:Many waterfowl are speeding their way north to breeding grounds with the drakes sporting their spectacular\, breeding plumage. Most of them will cause you to gasp in amazement! They are only passing through so now is the time to get out and see them. This is a caravan-style birding tour where we will stop at several favorite lakes and ponds in southern Geauga and northern Portage counties. Make sure to have a full tank of gas because gas stations are not one of our stops. If the group desires\, we will stop for lunch at the end of the tour. Meet at the boat ramp parking lot at the end of Washington Street off of St. Rt. 44 in Auburn Corners.
URL:https://clevelandaudubon.org/event/waterfowl-wander-field-trip-7/
LOCATION:La Due Reservoir\, La Due Reservoir\, Akron\, OH\, United States
CATEGORIES:Field Trip
ATTACH;FMTTYPE=image/jpeg:https://clevelandaudubon.org/wp-content/uploads/2018/01/20170325_waterfowl_caravan-BP-sm.jpg
END:VEVENT
END:VCALENDAR