BEGIN:VCALENDAR
VERSION:2.0
PRODID:-//Audubon Society of Greater Cleveland - ECPv6.15.20//NONSGML v1.0//EN
CALSCALE:GREGORIAN
METHOD:PUBLISH
X-ORIGINAL-URL:https://clevelandaudubon.org
X-WR-CALDESC:Events for Audubon Society of Greater Cleveland
REFRESH-INTERVAL;VALUE=DURATION:PT1H
X-Robots-Tag:noindex
X-PUBLISHED-TTL:PT1H
BEGIN:VTIMEZONE
TZID:America/New_York
BEGIN:DAYLIGHT
TZOFFSETFROM:-0500
TZOFFSETTO:-0400
TZNAME:EDT
DTSTART:20230312T070000
END:DAYLIGHT
BEGIN:STANDARD
TZOFFSETFROM:-0400
TZOFFSETTO:-0500
TZNAME:EST
DTSTART:20231105T060000
END:STANDARD
BEGIN:DAYLIGHT
TZOFFSETFROM:-0500
TZOFFSETTO:-0400
TZNAME:EDT
DTSTART:20240310T070000
END:DAYLIGHT
BEGIN:STANDARD
TZOFFSETFROM:-0400
TZOFFSETTO:-0500
TZNAME:EST
DTSTART:20241103T060000
END:STANDARD
BEGIN:DAYLIGHT
TZOFFSETFROM:-0500
TZOFFSETTO:-0400
TZNAME:EDT
DTSTART:20250309T070000
END:DAYLIGHT
BEGIN:STANDARD
TZOFFSETFROM:-0400
TZOFFSETTO:-0500
TZNAME:EST
DTSTART:20251102T060000
END:STANDARD
END:VTIMEZONE
BEGIN:VEVENT
DTSTART;TZID=America/New_York:20241019T133000
DTEND;TZID=America/New_York:20241019T153000
DTSTAMP:20260425T210934
CREATED:20240924T143135Z
LAST-MODIFIED:20240924T143135Z
UID:12601-1729344600-1729351800@clevelandaudubon.org
SUMMARY:Autumn Leaf Color Hike  Field Trip
DESCRIPTION:We are very fortunate to have the spectacular view of the palette of autumn leaf colors spreading out as far as the eye can see over the beautiful Chagrin River Valley in our own Hach-Otis Sanctuary. The mix of tree species is just right to give a dazzling fall view. Meet at the Hach-Otis parking lot at the end of Skyline Drive off River Road in Willoughby Hills.
URL:https://clevelandaudubon.org/event/autumn-leaf-color-hike-field-trip/
LOCATION:Hach-Otis Sanctuary\, Skyline Drive\, Willoughby Hills\, OH\, 44094\, United States
CATEGORIES:Field Trip
ATTACH;FMTTYPE=image/jpeg:https://clevelandaudubon.org/wp-content/uploads/2016/09/Valley-from-Hach-06-sm.jpg
END:VEVENT
END:VCALENDAR