BEGIN:VCALENDAR
VERSION:2.0
PRODID:-//Audubon Society of Greater Cleveland - ECPv6.15.20//NONSGML v1.0//EN
CALSCALE:GREGORIAN
METHOD:PUBLISH
X-ORIGINAL-URL:https://clevelandaudubon.org
X-WR-CALDESC:Events for Audubon Society of Greater Cleveland
REFRESH-INTERVAL;VALUE=DURATION:PT1H
X-Robots-Tag:noindex
X-PUBLISHED-TTL:PT1H
BEGIN:VTIMEZONE
TZID:America/New_York
BEGIN:DAYLIGHT
TZOFFSETFROM:-0500
TZOFFSETTO:-0400
TZNAME:EDT
DTSTART:20240310T070000
END:DAYLIGHT
BEGIN:STANDARD
TZOFFSETFROM:-0400
TZOFFSETTO:-0500
TZNAME:EST
DTSTART:20241103T060000
END:STANDARD
BEGIN:DAYLIGHT
TZOFFSETFROM:-0500
TZOFFSETTO:-0400
TZNAME:EDT
DTSTART:20250309T070000
END:DAYLIGHT
BEGIN:STANDARD
TZOFFSETFROM:-0400
TZOFFSETTO:-0500
TZNAME:EST
DTSTART:20251102T060000
END:STANDARD
BEGIN:DAYLIGHT
TZOFFSETFROM:-0500
TZOFFSETTO:-0400
TZNAME:EDT
DTSTART:20260308T070000
END:DAYLIGHT
BEGIN:STANDARD
TZOFFSETFROM:-0400
TZOFFSETTO:-0500
TZNAME:EST
DTSTART:20261101T060000
END:STANDARD
END:VTIMEZONE
BEGIN:VEVENT
DTSTART;TZID=America/New_York:20251210T120000
DTEND;TZID=America/New_York:20251210T130000
DTSTAMP:20260425T112437
CREATED:20251127T171205Z
LAST-MODIFIED:20251127T171205Z
UID:13143-1765368000-1765371600@clevelandaudubon.org
SUMMARY:Wild About Winter   via Zoom
DESCRIPTION:As we approach the winter solstice and prepare for the festive holidays of December\, it is interesting to ponder the wild goings-on in in our yards\, our gardens and our neighborhoods. No\, not those wild goings-on! Rather what is happening in nature. True\, many organisms are now dormant\, but many are not.\nHarvey Webster will explore the lives of select animals and plants in winter\, their adaptations and strategies for survival\, and focus on the importance of the winter solstice as the key signal and lead-in to spring. We will also explore how we can observe the vibrant life of winter.\nThere is always much to explore in our own habitats and ‘hoods\, regardless of season. \nTo register for the Zoom presentation please visit www.natureinmybackyard.clevelandaudubon.org/programs\nNature in My Backyard is a program of the\nAudubon Society of Greater Cleveland and the Shaker Lakes Garden Club\,\ntogether with the Master Gardeners of Cuyahoga County.
URL:https://clevelandaudubon.org/event/wild-about-winter-via-zoom/
LOCATION:OH
CATEGORIES:Education
ATTACH;FMTTYPE=image/jpeg:https://clevelandaudubon.org/wp-content/uploads/2025/11/harvey.jpg
END:VEVENT
END:VCALENDAR