BEGIN:VCALENDAR
VERSION:2.0
PRODID:-//Audubon Society of Greater Cleveland - ECPv6.15.20//NONSGML v1.0//EN
CALSCALE:GREGORIAN
METHOD:PUBLISH
X-WR-CALNAME:Audubon Society of Greater Cleveland
X-ORIGINAL-URL:https://clevelandaudubon.org
X-WR-CALDESC:Events for Audubon Society of Greater Cleveland
REFRESH-INTERVAL;VALUE=DURATION:PT1H
X-Robots-Tag:noindex
X-PUBLISHED-TTL:PT1H
BEGIN:VTIMEZONE
TZID:America/New_York
BEGIN:DAYLIGHT
TZOFFSETFROM:-0500
TZOFFSETTO:-0400
TZNAME:EDT
DTSTART:20140309T070000
END:DAYLIGHT
BEGIN:STANDARD
TZOFFSETFROM:-0400
TZOFFSETTO:-0500
TZNAME:EST
DTSTART:20141102T060000
END:STANDARD
BEGIN:DAYLIGHT
TZOFFSETFROM:-0500
TZOFFSETTO:-0400
TZNAME:EDT
DTSTART:20150308T070000
END:DAYLIGHT
BEGIN:STANDARD
TZOFFSETFROM:-0400
TZOFFSETTO:-0500
TZNAME:EST
DTSTART:20151101T060000
END:STANDARD
BEGIN:DAYLIGHT
TZOFFSETFROM:-0500
TZOFFSETTO:-0400
TZNAME:EDT
DTSTART:20160313T070000
END:DAYLIGHT
BEGIN:STANDARD
TZOFFSETFROM:-0400
TZOFFSETTO:-0500
TZNAME:EST
DTSTART:20161106T060000
END:STANDARD
BEGIN:DAYLIGHT
TZOFFSETFROM:-0500
TZOFFSETTO:-0400
TZNAME:EDT
DTSTART:20170312T070000
END:DAYLIGHT
BEGIN:STANDARD
TZOFFSETFROM:-0400
TZOFFSETTO:-0500
TZNAME:EST
DTSTART:20171105T060000
END:STANDARD
BEGIN:DAYLIGHT
TZOFFSETFROM:-0500
TZOFFSETTO:-0400
TZNAME:EDT
DTSTART:20180311T070000
END:DAYLIGHT
BEGIN:STANDARD
TZOFFSETFROM:-0400
TZOFFSETTO:-0500
TZNAME:EST
DTSTART:20181104T060000
END:STANDARD
BEGIN:DAYLIGHT
TZOFFSETFROM:-0500
TZOFFSETTO:-0400
TZNAME:EDT
DTSTART:20190310T070000
END:DAYLIGHT
BEGIN:STANDARD
TZOFFSETFROM:-0400
TZOFFSETTO:-0500
TZNAME:EST
DTSTART:20191103T060000
END:STANDARD
BEGIN:DAYLIGHT
TZOFFSETFROM:-0500
TZOFFSETTO:-0400
TZNAME:EDT
DTSTART:20200308T070000
END:DAYLIGHT
BEGIN:STANDARD
TZOFFSETFROM:-0400
TZOFFSETTO:-0500
TZNAME:EST
DTSTART:20201101T060000
END:STANDARD
END:VTIMEZONE
BEGIN:VEVENT
DTSTART;TZID=America/New_York:20190202T193000
DTEND;TZID=America/New_York:20190202T203000
DTSTAMP:20260425T091631
CREATED:20190117T171709Z
LAST-MODIFIED:20190117T171822Z
UID:4222-1549135800-1549139400@clevelandaudubon.org
SUMMARY:Migrating Waterfowl & Winter Birds  Backyard Naturalist
DESCRIPTION:Once the pretty summer songbirds have departed for points south\, what do birders do? They put on another layer of cloths and go looking for waterfowl – Ducks\, Geese\, Swans\, Loons\, Grebes & Gulls. This presentation showcases these hardy visitors along with Hawks\, Owls and smaller birds like Snow Buntings\, Larkspurs and Kinglets. If you don’t like cold weather\, ask about ‘car birding’\, a favorite alternative to walking when wind chills plummet! About 1 hour in length. \nCleveland Natural Science Club meeting at Look About Lodge in North Chagrin Reservation. Public welcome.
URL:https://clevelandaudubon.org/event/migrating-waterfowl-winter-birds-speakers-bureau/
LOCATION:Look About Lodge\, 37374 Miles Rd  \, Bentleyville\, 44022\, United States
CATEGORIES:Backyard Naturalist,Education
ATTACH;FMTTYPE=image/jpeg:https://clevelandaudubon.org/wp-content/uploads/2018/10/Greater-Scaup-in-foreground-and-Lesser-on-top-MV-sm-e1540403025353.jpg
END:VEVENT
BEGIN:VEVENT
DTSTART;TZID=America/New_York:20181129T190000
DTEND;TZID=America/New_York:20181129T200000
DTSTAMP:20260425T091631
CREATED:20181024T174643Z
LAST-MODIFIED:20181024T174643Z
UID:4134-1543518000-1543521600@clevelandaudubon.org
SUMMARY:Migrating Waterfowl & Winter Birds of NE Ohio  Backyard Naturalist
DESCRIPTION:Once the pretty summer songbirds have departed for points south\, what do birders do? They put on another layer of clothes and go looking for waterfowl – Ducks\, Geese\, Swans\, Loons\, Grebes & Gulls. This presentation showcases these hardy visitors along with Hawks\, Owls and smaller birds like Snow Buntings\, Larkspurs and Kinglets. If you don’t like cold weather\, ask about ‘car birding’\, a favorite alternative to walking when wind chills plummet! About 1 hour in length. \nThe First Baptist Church is located at 7656 State Route 82\, Garrettsville 44231
URL:https://clevelandaudubon.org/event/migrating-waterfowl-winter-birds-of-ne-ohio-backyard-naturalist-2/
LOCATION:First Baptist Church\, 7656 State Route 82\, Garrettsville\, OH\, 44231\, United States
CATEGORIES:Backyard Naturalist
ATTACH;FMTTYPE=image/jpeg:https://clevelandaudubon.org/wp-content/uploads/2018/10/Greater-Scaup-in-foreground-and-Lesser-on-top-MV-sm-e1540403025353.jpg
END:VEVENT
BEGIN:VEVENT
DTSTART;TZID=America/New_York:20151107T150000
DTEND;TZID=America/New_York:20151107T170000
DTSTAMP:20260425T091631
CREATED:20150924T140748Z
LAST-MODIFIED:20151012T213721Z
UID:1800-1446908400-1446915600@clevelandaudubon.org
SUMMARY:The Great Texas Birding Trail   (Backyard Naturalist)
DESCRIPTION:Not many places in the United States can match the Texas Coast for outstanding birding opportunities. The Lone Star State initiated the development of birding routes\, with maps and signs\, to renowned spots as well as lesser-known locations\, and many other states have now followed suit. This presentation visits famous hotspots like Santa Ana\, Aransas\, Laguna Atascosa\, and Rockport/Fulton along with many of the hidden gems of the Gulf Coast. \nJeffrey Hall’s articles and photographs have appeared in Living Bird\, NJ Audubon\, Underwater Naturalist\, and numerous other publications\, as well as the Pennsylvania Society for Ornithology’s website. Over the last two decades\, he has given over a hundred presentations to birding groups\, nature and wildlife organizations\, and photography clubs. He served four terms as president of Washington Crossing Audubon Society in New Jersey. Jeffrey retired in 2011 after 25 years of teaching biology at the Pennington School in New Jersey. He lives in Franklin\, Pa. and is president of Bartramian Audubon Society and also active in Seneca Rocks Audubon Society.
URL:https://clevelandaudubon.org/event/the-great-texas-birding-trail-backyard-naturalist/
LOCATION:Novak Education Center\, 382 Townline Road\, Aurora\, OH\, 44202\, United States
CATEGORIES:Backyard Naturalist
ATTACH;FMTTYPE=image/png:https://clevelandaudubon.org/wp-content/uploads/2015/09/JeffreyHall-e1443103243648.png
END:VEVENT
BEGIN:VEVENT
DTSTART;TZID=America/New_York:20151003T150000
DTEND;TZID=America/New_York:20151003T170000
DTSTAMP:20260425T091631
CREATED:20150909T173640Z
LAST-MODIFIED:20150909T174253Z
UID:1770-1443884400-1443891600@clevelandaudubon.org
SUMMARY:A Journeyman Birder's Retrospective (Backyard Naturalist)
DESCRIPTION:Mike Sustin\, National Geographic Grosvenor Teacher Fellow \nIn 2012 Mike was chosen by the National Geographic Society to be one of 14 Grosvenor Teacher Fellows. He was given the responsibility of acting as an ambassador for geography and environmental education while aboard the ship\, National Geographic Discovery. They cruised the waters of the Barents Sea and hiked the shores of the Svalbard Archipelago roughly 600 miles away from the North Pole. \nSince then\, he has had some amazing travel experiences in which birding has played a significant role. He has introduced teens from northeast Ohio to the birds of Wyoming\, Costa Rica and Maine. This summer he was a student in a marine science class in Australia. Even though the focus of the course was coral reef health\, he always had one eye on the sky.
URL:https://clevelandaudubon.org/event/a-journeyman-birders-retrospective-backyard-naturalist/
LOCATION:Novak Education Center\, 382 Townline Road\, Aurora\, OH\, 44202\, United States
CATEGORIES:Backyard Naturalist
ATTACH;FMTTYPE=image/jpeg:https://clevelandaudubon.org/wp-content/uploads/2015/09/MikeSustin.jpeg
END:VEVENT
BEGIN:VEVENT
DTSTART;TZID=America/New_York:20150926T150000
DTEND;TZID=America/New_York:20150926T170000
DTSTAMP:20260425T091631
CREATED:20150910T153018Z
LAST-MODIFIED:20150925T150007Z
UID:1775-1443279600-1443286800@clevelandaudubon.org
SUMMARY:Beginning Birding (Backyard Naturalist Spec Edition)
DESCRIPTION:Fluff your feathers and update your birding skills before heading out on the Chagrin River Bird Quest in October! Join instructors Dr. Sarah Mabey and Joe Malmisur for this special edition of the Backyard Naturalist for some birding tips and tricks. Find out which birds can be found in October\, what is an IBA\, and\, if you’re feeling adventurous\, register for the Bird Quest. This is the last day to order free t-shirts for your entire Bird Quest team! As always\, yummy snacks and beverages available for the whole family.
URL:https://clevelandaudubon.org/event/introduction-to-birding-backyard-naturalist-spec-ed/
LOCATION:Novak Education Center\, 382 Townline Road\, Aurora\, OH\, 44202\, United States
CATEGORIES:Backyard Naturalist
ATTACH;FMTTYPE=image/jpeg:https://clevelandaudubon.org/wp-content/uploads/2015/09/JoeMalmisur.03-sm-e1442949765735.jpg
END:VEVENT
END:VCALENDAR