BEGIN:VCALENDAR
VERSION:2.0
PRODID:-//Audubon Society of Greater Cleveland - ECPv6.15.20//NONSGML v1.0//EN
CALSCALE:GREGORIAN
METHOD:PUBLISH
X-ORIGINAL-URL:https://clevelandaudubon.org
X-WR-CALDESC:Events for Audubon Society of Greater Cleveland
REFRESH-INTERVAL;VALUE=DURATION:PT1H
X-Robots-Tag:noindex
X-PUBLISHED-TTL:PT1H
BEGIN:VTIMEZONE
TZID:America/New_York
BEGIN:DAYLIGHT
TZOFFSETFROM:-0500
TZOFFSETTO:-0400
TZNAME:EDT
DTSTART:20240310T070000
END:DAYLIGHT
BEGIN:STANDARD
TZOFFSETFROM:-0400
TZOFFSETTO:-0500
TZNAME:EST
DTSTART:20241103T060000
END:STANDARD
BEGIN:DAYLIGHT
TZOFFSETFROM:-0500
TZOFFSETTO:-0400
TZNAME:EDT
DTSTART:20250309T070000
END:DAYLIGHT
BEGIN:STANDARD
TZOFFSETFROM:-0400
TZOFFSETTO:-0500
TZNAME:EST
DTSTART:20251102T060000
END:STANDARD
BEGIN:DAYLIGHT
TZOFFSETFROM:-0500
TZOFFSETTO:-0400
TZNAME:EDT
DTSTART:20260308T070000
END:DAYLIGHT
BEGIN:STANDARD
TZOFFSETFROM:-0400
TZOFFSETTO:-0500
TZNAME:EST
DTSTART:20261101T060000
END:STANDARD
END:VTIMEZONE
BEGIN:VEVENT
DTSTART;TZID=America/New_York:20251108T093000
DTEND;TZID=America/New_York:20251108T110000
DTSTAMP:20260424T195221
CREATED:20250923T155139Z
LAST-MODIFIED:20250923T155139Z
UID:13092-1762594200-1762599600@clevelandaudubon.org
SUMMARY:Leaf Cruncher Hike  Field Trip
DESCRIPTION:The enjoyable sound and feeling of wading through a carpet of fallen leaves awaits you! The forest without leaves obscuring the view gives a new and different perspective. Unseen slopes and gulleys just off the trail become visible. Ancient trees hidden by their leafy offspring appear clearly. And you can actually see the birds you could only hear when the leaves were attached to their branches. As always water-proof footwear is recommended\, Meet at the Novak Sanctuary parking lot on the east side of Townline Road a little less than a mile north of State Route 82 on Aurora/Mantua border.
URL:https://clevelandaudubon.org/event/leaf-cruncher-hike-field-trip/
LOCATION:Novak Sanctuary\, 382 Townline Road\, Mantua\, OH\, 44202\, United States
CATEGORIES:Field Trip
ATTACH;FMTTYPE=image/jpeg:https://clevelandaudubon.org/wp-content/uploads/2024/09/Classic-Autumn-Leaves-Wallp-TLG-e1727188651429.jpg
END:VEVENT
END:VCALENDAR