BEGIN:VCALENDAR
VERSION:2.0
PRODID:-//Audubon Society of Greater Cleveland - ECPv6.15.20//NONSGML v1.0//EN
CALSCALE:GREGORIAN
METHOD:PUBLISH
X-ORIGINAL-URL:https://clevelandaudubon.org
X-WR-CALDESC:Events for Audubon Society of Greater Cleveland
REFRESH-INTERVAL;VALUE=DURATION:PT1H
X-Robots-Tag:noindex
X-PUBLISHED-TTL:PT1H
BEGIN:VTIMEZONE
TZID:America/New_York
BEGIN:DAYLIGHT
TZOFFSETFROM:-0500
TZOFFSETTO:-0400
TZNAME:EDT
DTSTART:20240310T070000
END:DAYLIGHT
BEGIN:STANDARD
TZOFFSETFROM:-0400
TZOFFSETTO:-0500
TZNAME:EST
DTSTART:20241103T060000
END:STANDARD
BEGIN:DAYLIGHT
TZOFFSETFROM:-0500
TZOFFSETTO:-0400
TZNAME:EDT
DTSTART:20250309T070000
END:DAYLIGHT
BEGIN:STANDARD
TZOFFSETFROM:-0400
TZOFFSETTO:-0500
TZNAME:EST
DTSTART:20251102T060000
END:STANDARD
BEGIN:DAYLIGHT
TZOFFSETFROM:-0500
TZOFFSETTO:-0400
TZNAME:EDT
DTSTART:20260308T070000
END:DAYLIGHT
BEGIN:STANDARD
TZOFFSETFROM:-0400
TZOFFSETTO:-0500
TZNAME:EST
DTSTART:20261101T060000
END:STANDARD
END:VTIMEZONE
BEGIN:VEVENT
DTSTART;TZID=America/New_York:20250414T183000
DTEND;TZID=America/New_York:20250414T193000
DTSTAMP:20260425T072807
CREATED:20250322T161305Z
LAST-MODIFIED:20250322T161305Z
UID:12850-1744655400-1744659000@clevelandaudubon.org
SUMMARY:Birds of NE Ohio  Various
DESCRIPTION:Birds of NE Ohio \nMentor Public Library April 14 @ 6:30pm \nNorth Royalton Library April 15 @ 7:00pm \nOver 230 species of birds can be found in NE Ohio in a typical year. Some are year-round residents and others just pass through on their way to the Boreal Forests of Canada. Others fly across the Gulf of Mexico non-stop to have their babies in our back yards! Get a close look at 100 of the most common residents\, migrants and breeding birds of NE Ohio and learn where and when to find them. Approximately 1 hour in length. \n(Mentor Public Library\, 8215 Mentor Avenue\, Mentor\, OH) \n(North Royalton Library\, 5071 Wallings Road\, North Royalton\, OH)
URL:https://clevelandaudubon.org/event/birds-of-ne-ohio-various/
LOCATION:OH
CATEGORIES:Backyard Naturalist,Education
ATTACH;FMTTYPE=image/jpeg:https://clevelandaudubon.org/wp-content/uploads/2024/04/Gray-Catbird-MV-vsm.jpg
END:VEVENT
END:VCALENDAR