BEGIN:VCALENDAR
VERSION:2.0
PRODID:-//Audubon Society of Greater Cleveland - ECPv6.15.20//NONSGML v1.0//EN
CALSCALE:GREGORIAN
METHOD:PUBLISH
X-ORIGINAL-URL:https://clevelandaudubon.org
X-WR-CALDESC:Events for Audubon Society of Greater Cleveland
REFRESH-INTERVAL;VALUE=DURATION:PT1H
X-Robots-Tag:noindex
X-PUBLISHED-TTL:PT1H
BEGIN:VTIMEZONE
TZID:America/New_York
BEGIN:DAYLIGHT
TZOFFSETFROM:-0500
TZOFFSETTO:-0400
TZNAME:EDT
DTSTART:20240310T070000
END:DAYLIGHT
BEGIN:STANDARD
TZOFFSETFROM:-0400
TZOFFSETTO:-0500
TZNAME:EST
DTSTART:20241103T060000
END:STANDARD
BEGIN:DAYLIGHT
TZOFFSETFROM:-0500
TZOFFSETTO:-0400
TZNAME:EDT
DTSTART:20250309T070000
END:DAYLIGHT
BEGIN:STANDARD
TZOFFSETFROM:-0400
TZOFFSETTO:-0500
TZNAME:EST
DTSTART:20251102T060000
END:STANDARD
BEGIN:DAYLIGHT
TZOFFSETFROM:-0500
TZOFFSETTO:-0400
TZNAME:EDT
DTSTART:20260308T070000
END:DAYLIGHT
BEGIN:STANDARD
TZOFFSETFROM:-0400
TZOFFSETTO:-0500
TZNAME:EST
DTSTART:20261101T060000
END:STANDARD
END:VTIMEZONE
BEGIN:VEVENT
DTSTART;TZID=America/New_York:20250411T130000
DTEND;TZID=America/New_York:20250411T140000
DTSTAMP:20260425T072807
CREATED:20250322T161011Z
LAST-MODIFIED:20250322T161011Z
UID:12848-1744376400-1744380000@clevelandaudubon.org
SUMMARY:Warbler  Warm-up  Various
DESCRIPTION:Warbler Warm Up \nGates Mills Library April 11 @ 1:00pm \nWest Wood Nature Center April 13 @ 2:00pm \nSome of the prettiest birds on the planet are in NE Ohio from April through October. Most just pass-through during May on their way north\, but some stay here to have their babies. Because we only see them for a short time every year\, we forget how to quickly identify them. This presentation uses actual photographs to help group birds by appearance\, behaviors and preferred habitat. About 1 ¼ hours in length. \n(Gates Mills Library\, 1491 Chagrin River Road\, Gates Mills\, OH) \n(West Woods Nature Center\, 9465 Kinsman Road (Rt. 87)\, Novelty\, OH)
URL:https://clevelandaudubon.org/event/warbler-warm-up-various/
LOCATION:OH
CATEGORIES:Backyard Naturalist,Education
ATTACH;FMTTYPE=image/jpeg:https://clevelandaudubon.org/wp-content/uploads/2023/04/Blackburnian-Warbler-1-e1710711697797.jpg
END:VEVENT
BEGIN:VEVENT
DTSTART;TZID=America/New_York:20250411T130000
DTEND;TZID=America/New_York:20250411T140000
DTSTAMP:20260425T072807
CREATED:20250322T161857Z
LAST-MODIFIED:20250322T161857Z
UID:12852-1744376400-1744380000@clevelandaudubon.org
SUMMARY:Native Plants for Birds\, Insects & Biodiversity  Program
DESCRIPTION:April 11\, 2025 @ 1:00pm \nNative Plants for Birds\, Insects and Biodiversity \nThe Wilderness Center\, Wilmot\, OH \nBirds\, insects and native plants are inextricably linked in nature.  Whatever happens to one will have an effect on the others.  This talk explains those relationships\, then shows you ways to enhance your personal landscape for birds\, insects\, or just for the beauty of native plants.  Lots of pictures of birds\, insects and native plants (flowering plants\, trees and shrubs).  Directions provided to download handouts from our website.  About 1-hour in length.
URL:https://clevelandaudubon.org/event/native-plants-for-birds-insects-biodiversity-program/
LOCATION:The Wilderness Center\, 9877 Alabama Ave. SW\, Wilmot\, OH\, 44689
CATEGORIES:Backyard Naturalist,Education
ATTACH;FMTTYPE=image/jpeg:https://clevelandaudubon.org/wp-content/uploads/2015/01/Common-Eastern-Bumblebee-on-Rattlesnake-Master-plant-e1670433408110.jpg
END:VEVENT
END:VCALENDAR