BEGIN:VCALENDAR
VERSION:2.0
PRODID:-//Audubon Society of Greater Cleveland - ECPv6.15.20//NONSGML v1.0//EN
CALSCALE:GREGORIAN
METHOD:PUBLISH
X-WR-CALNAME:Audubon Society of Greater Cleveland
X-ORIGINAL-URL:https://clevelandaudubon.org
X-WR-CALDESC:Events for Audubon Society of Greater Cleveland
REFRESH-INTERVAL;VALUE=DURATION:PT1H
X-Robots-Tag:noindex
X-PUBLISHED-TTL:PT1H
BEGIN:VTIMEZONE
TZID:America/New_York
BEGIN:DAYLIGHT
TZOFFSETFROM:-0500
TZOFFSETTO:-0400
TZNAME:EDT
DTSTART:20240310T070000
END:DAYLIGHT
BEGIN:STANDARD
TZOFFSETFROM:-0400
TZOFFSETTO:-0500
TZNAME:EST
DTSTART:20241103T060000
END:STANDARD
BEGIN:DAYLIGHT
TZOFFSETFROM:-0500
TZOFFSETTO:-0400
TZNAME:EDT
DTSTART:20250309T070000
END:DAYLIGHT
BEGIN:STANDARD
TZOFFSETFROM:-0400
TZOFFSETTO:-0500
TZNAME:EST
DTSTART:20251102T060000
END:STANDARD
BEGIN:DAYLIGHT
TZOFFSETFROM:-0500
TZOFFSETTO:-0400
TZNAME:EDT
DTSTART:20260308T070000
END:DAYLIGHT
BEGIN:STANDARD
TZOFFSETFROM:-0400
TZOFFSETTO:-0500
TZNAME:EST
DTSTART:20261101T060000
END:STANDARD
END:VTIMEZONE
BEGIN:VEVENT
DTSTART;TZID=America/New_York:20250220T190000
DTEND;TZID=America/New_York:20250220T200000
DTSTAMP:20260425T112259
CREATED:20250116T153605Z
LAST-MODIFIED:20250116T153605Z
UID:12737-1740078000-1740081600@clevelandaudubon.org
SUMMARY:A Bird's Eye View  via Zoom
DESCRIPTION:A Birds Eye View: The Sensory World of Birds \nDid you know that a bird’s eyesight is more than seven times keener than yours? Birds experience the sights\, sounds\, and smells of the world in a radically different way than we do. Learn about some of the amazing ways birds make sense of their environment. \nPresented by Dr. Sarah Mabey. \nRegister in advance for this meeting: \nhttps://us02web.zoom.us/meeting/register/EFxS25tMRSS0Ev4bP8zJ2w \nAfter registering\, you will receive a confirmation email containing information about joining the meeting.
URL:https://clevelandaudubon.org/event/a-birds-eye-view-via-zoom-2/
LOCATION:OH
CATEGORIES:Backyard Naturalist,Education
ATTACH;FMTTYPE=image/jpeg:https://clevelandaudubon.org/wp-content/uploads/2020/12/Osprey-Close-up-sm.jpg
END:VEVENT
END:VCALENDAR