BEGIN:VCALENDAR
VERSION:2.0
PRODID:-//Audubon Society of Greater Cleveland - ECPv6.15.20//NONSGML v1.0//EN
CALSCALE:GREGORIAN
METHOD:PUBLISH
X-WR-CALNAME:Audubon Society of Greater Cleveland
X-ORIGINAL-URL:https://clevelandaudubon.org
X-WR-CALDESC:Events for Audubon Society of Greater Cleveland
REFRESH-INTERVAL;VALUE=DURATION:PT1H
X-Robots-Tag:noindex
X-PUBLISHED-TTL:PT1H
BEGIN:VTIMEZONE
TZID:America/New_York
BEGIN:DAYLIGHT
TZOFFSETFROM:-0500
TZOFFSETTO:-0400
TZNAME:EDT
DTSTART:20240310T070000
END:DAYLIGHT
BEGIN:STANDARD
TZOFFSETFROM:-0400
TZOFFSETTO:-0500
TZNAME:EST
DTSTART:20241103T060000
END:STANDARD
BEGIN:DAYLIGHT
TZOFFSETFROM:-0500
TZOFFSETTO:-0400
TZNAME:EDT
DTSTART:20250309T070000
END:DAYLIGHT
BEGIN:STANDARD
TZOFFSETFROM:-0400
TZOFFSETTO:-0500
TZNAME:EST
DTSTART:20251102T060000
END:STANDARD
BEGIN:DAYLIGHT
TZOFFSETFROM:-0500
TZOFFSETTO:-0400
TZNAME:EDT
DTSTART:20260308T070000
END:DAYLIGHT
BEGIN:STANDARD
TZOFFSETFROM:-0400
TZOFFSETTO:-0500
TZNAME:EST
DTSTART:20261101T060000
END:STANDARD
END:VTIMEZONE
BEGIN:VEVENT
DTSTART;TZID=America/New_York:20250216T083000
DTEND;TZID=America/New_York:20250216T110000
DTSTAMP:20260425T112258
CREATED:20250125T150328Z
LAST-MODIFIED:20250125T150328Z
UID:12742-1739694600-1739703600@clevelandaudubon.org
SUMMARY:Great Backyard Bird Count  Field Trip
DESCRIPTION:This fun international bird count also helps us achieve our annual winter bird survey and contributes to the statistics managed by the Cornell Lab of Ornithology in collaberation with National Audubon and Birds Canada. All participants are welcomed regardless of experience. We need young acute hearing ability to discover the Brown Creepers\, Golden-crowned Kinglets\, and Cedar Waxwings. Please dress for the weather with proper footwear for a 2-mile saunter that lasts about 2.5 hours. Meet at the Bretschneider Park parking lot on the north side of Pioneer Trail a few hundred yards east of Page Rd. in Aurora.
URL:https://clevelandaudubon.org/event/great-backyard-bird-count-field-trip-6/
LOCATION:Aurora Audubon Sanctuary\, 896 E. Pioneer Trail\, Aurora\, OH\, 44202\, United States
CATEGORIES:Field Trip
ATTACH;FMTTYPE=image/jpeg:https://clevelandaudubon.org/wp-content/uploads/2025/01/Golden-crowned-Kinglet-2-1-of-1-3-e1737817388961.jpg
END:VEVENT
END:VCALENDAR