BEGIN:VCALENDAR
VERSION:2.0
PRODID:-//Audubon Society of Greater Cleveland - ECPv6.15.20//NONSGML v1.0//EN
CALSCALE:GREGORIAN
METHOD:PUBLISH
X-ORIGINAL-URL:https://clevelandaudubon.org
X-WR-CALDESC:Events for Audubon Society of Greater Cleveland
REFRESH-INTERVAL;VALUE=DURATION:PT1H
X-Robots-Tag:noindex
X-PUBLISHED-TTL:PT1H
BEGIN:VTIMEZONE
TZID:America/New_York
BEGIN:DAYLIGHT
TZOFFSETFROM:-0500
TZOFFSETTO:-0400
TZNAME:EDT
DTSTART:20240310T070000
END:DAYLIGHT
BEGIN:STANDARD
TZOFFSETFROM:-0400
TZOFFSETTO:-0500
TZNAME:EST
DTSTART:20241103T060000
END:STANDARD
BEGIN:DAYLIGHT
TZOFFSETFROM:-0500
TZOFFSETTO:-0400
TZNAME:EDT
DTSTART:20250309T070000
END:DAYLIGHT
BEGIN:STANDARD
TZOFFSETFROM:-0400
TZOFFSETTO:-0500
TZNAME:EST
DTSTART:20251102T060000
END:STANDARD
BEGIN:DAYLIGHT
TZOFFSETFROM:-0500
TZOFFSETTO:-0400
TZNAME:EDT
DTSTART:20260308T070000
END:DAYLIGHT
BEGIN:STANDARD
TZOFFSETFROM:-0400
TZOFFSETTO:-0500
TZNAME:EST
DTSTART:20261101T060000
END:STANDARD
END:VTIMEZONE
BEGIN:VEVENT
DTSTART;TZID=America/New_York:20250212T120000
DTEND;TZID=America/New_York:20250212T130000
DTSTAMP:20260425T112317
CREATED:20250120T154620Z
LAST-MODIFIED:20250120T154620Z
UID:12739-1739361600-1739365200@clevelandaudubon.org
SUMMARY:Will it be beautiful?  via Zoom
DESCRIPTION:Steve Cagan lives in Cleveland Heights\, and shares birding\, native plants and vegetable gardening with his wife\, Beth. His avian photography and the images from his garden are by-products of a long-standing love of nature and birding. He will present a look through the year at the engaging beauty of his native garden. \nSteve has exhibited and published photography on four continents and has published reviews and critical writings in variety of professional journals and books. Major awards include two Fulbright Fellowships\, a National Endowment for the Arts Fellowship\, and several Ohio Arts Council Fellowships and New Jersey Arts Council Fellowships. Steve taught photography at Mason Gross School of the Arts\, Rutgers University\, 1985-1993. \nRegister HERE.
URL:https://clevelandaudubon.org/event/will-it-be-beautiful-via-zoom/
LOCATION:OH
CATEGORIES:Education
ATTACH;FMTTYPE=image/jpeg:https://clevelandaudubon.org/wp-content/uploads/2025/01/cagan-884x1024-1-e1737387965469.jpg
END:VEVENT
END:VCALENDAR