BEGIN:VCALENDAR
VERSION:2.0
PRODID:-//Audubon Society of Greater Cleveland - ECPv6.15.20//NONSGML v1.0//EN
CALSCALE:GREGORIAN
METHOD:PUBLISH
X-WR-CALNAME:Audubon Society of Greater Cleveland
X-ORIGINAL-URL:https://clevelandaudubon.org
X-WR-CALDESC:Events for Audubon Society of Greater Cleveland
REFRESH-INTERVAL;VALUE=DURATION:PT1H
X-Robots-Tag:noindex
X-PUBLISHED-TTL:PT1H
BEGIN:VTIMEZONE
TZID:America/New_York
BEGIN:DAYLIGHT
TZOFFSETFROM:-0500
TZOFFSETTO:-0400
TZNAME:EDT
DTSTART:20230312T070000
END:DAYLIGHT
BEGIN:STANDARD
TZOFFSETFROM:-0400
TZOFFSETTO:-0500
TZNAME:EST
DTSTART:20231105T060000
END:STANDARD
BEGIN:DAYLIGHT
TZOFFSETFROM:-0500
TZOFFSETTO:-0400
TZNAME:EDT
DTSTART:20240310T070000
END:DAYLIGHT
BEGIN:STANDARD
TZOFFSETFROM:-0400
TZOFFSETTO:-0500
TZNAME:EST
DTSTART:20241103T060000
END:STANDARD
BEGIN:DAYLIGHT
TZOFFSETFROM:-0500
TZOFFSETTO:-0400
TZNAME:EDT
DTSTART:20250309T070000
END:DAYLIGHT
BEGIN:STANDARD
TZOFFSETFROM:-0400
TZOFFSETTO:-0500
TZNAME:EST
DTSTART:20251102T060000
END:STANDARD
END:VTIMEZONE
BEGIN:VEVENT
DTSTART;TZID=America/New_York:20240921T133000
DTEND;TZID=America/New_York:20240921T153000
DTSTAMP:20260425T192707
CREATED:20240906T174056Z
LAST-MODIFIED:20240906T174056Z
UID:12597-1726925400-1726932600@clevelandaudubon.org
SUMMARY:Fringed Gentians  Field Trip
DESCRIPTION:These beauties are among the last wildflowers to bloom of the season but well worth the wait. There are several species of Gentians in our area but the Fringed Gentian is an unusual and fabulous one. Also in bloom will be Closed or Bottle Gentian\, Ladies Tresses\, Great Lobelia\, Wingstem\, Goldenrod and Aster. Join us for a fall wildflower hike and you will be amazed at the color and bounty of autumn! Meet at the Bretschnieder parking lot on the north side of Pioneer Trail a few hundred yards east of Page Rd. in Aurora.
URL:https://clevelandaudubon.org/event/fringed-gentians-field-trip-2/
LOCATION:Aurora Audubon Sanctuary\, 896 E. Pioneer Trail\, Aurora\, OH\, 44202\, United States
CATEGORIES:Field Trip
ATTACH;FMTTYPE=image/jpeg:https://clevelandaudubon.org/wp-content/uploads/2015/07/Fringed-Gentian.jpg
END:VEVENT
END:VCALENDAR