BEGIN:VCALENDAR
VERSION:2.0
PRODID:-//Audubon Society of Greater Cleveland - ECPv6.15.20//NONSGML v1.0//EN
CALSCALE:GREGORIAN
METHOD:PUBLISH
X-ORIGINAL-URL:https://clevelandaudubon.org
X-WR-CALDESC:Events for Audubon Society of Greater Cleveland
REFRESH-INTERVAL;VALUE=DURATION:PT1H
X-Robots-Tag:noindex
X-PUBLISHED-TTL:PT1H
BEGIN:VTIMEZONE
TZID:America/New_York
BEGIN:DAYLIGHT
TZOFFSETFROM:-0500
TZOFFSETTO:-0400
TZNAME:EDT
DTSTART:20230312T070000
END:DAYLIGHT
BEGIN:STANDARD
TZOFFSETFROM:-0400
TZOFFSETTO:-0500
TZNAME:EST
DTSTART:20231105T060000
END:STANDARD
BEGIN:DAYLIGHT
TZOFFSETFROM:-0500
TZOFFSETTO:-0400
TZNAME:EDT
DTSTART:20240310T070000
END:DAYLIGHT
BEGIN:STANDARD
TZOFFSETFROM:-0400
TZOFFSETTO:-0500
TZNAME:EST
DTSTART:20241103T060000
END:STANDARD
BEGIN:DAYLIGHT
TZOFFSETFROM:-0500
TZOFFSETTO:-0400
TZNAME:EDT
DTSTART:20250309T070000
END:DAYLIGHT
BEGIN:STANDARD
TZOFFSETFROM:-0400
TZOFFSETTO:-0500
TZNAME:EST
DTSTART:20251102T060000
END:STANDARD
END:VTIMEZONE
BEGIN:VEVENT
DTSTART;TZID=America/New_York:20240602T140000
DTEND;TZID=America/New_York:20240602T200000
DTSTAMP:20260426T002005
CREATED:20240317T211214Z
LAST-MODIFIED:20240317T211214Z
UID:12412-1717336800-1717358400@clevelandaudubon.org
SUMMARY:ASGC Annual Meeting
DESCRIPTION:Annual Meeting:                         Sunday\, June 2\, 2024 \nLocation:                                    Veterans Legacy Woods\, 14085 Ravenna Rd\, Newbury Township\, OH \nTime:                                         2:00 Nature Walk \nSocial Hour:                               3:00 p.m. \nBusiness Meeting & Awards:      4:30p.m. \nDinner:                                      6:00 p.m. \nCaterer:                                   “Dab of Class” \nCost:                                         $40.00 per person (We are keeping the cost the same as last year even though prices have increased.) \nGuest Speaker                          7:00 p.m.:          Julie Zickefoose\, Author “Bird Watchers Digest”\, artist and naturalist at home in the Appalachian foothills of Ohio. \nMake check out to:   Audubon Society of Greater Cleveland and mail it to: \n                               Audubon Society of Greater Cleveland\, P.O.Box 391037\,  Solon\, Ohio 44139 \nReservations must be in and paid for by Friday\, May 24\, 2024.
URL:https://clevelandaudubon.org/event/asgc-annual-meeting/
LOCATION:Veterans Legacy Woods\, 14085 Ravenna Rd\, Newbury Township\, OH\, 44065\, United States
ATTACH;FMTTYPE=image/jpeg:https://clevelandaudubon.org/wp-content/uploads/2024/03/vlw-lodge-freedom-13-e1746125035416.jpg
END:VEVENT
END:VCALENDAR